Workbook
Name Calctype: Wstęp!$A$5
Name Duration: Wstęp!$B$3
Name Fragmentator_Typ_emitenta: #N/A
Name Lokalizacja: Wstęp!$B$1
Name Obligi: Obligacje.pl!$A$1:$F$2000
Name Time: Wstęp!$B$4
Name Value: Wstęp!$B$2

Sheet Wstęp
A1: Lokalizacja pobranych plików
A2: Pokaż obligacje o wartości poniżej | B2: 20000 | C2: Wartość=nominał*cena+odsetki | H2: Filtry nie dotyczą posiadanych obligacji (wpisanych w arkuszu „Obligacje”)
A3: i terminie wykupu powyżej | B3: 0.25 | C3: Czas do wykupu liczony w latach (0,25 roku=kwartał)
A4: na których były transakcje w ciągu ostatnich | B4: 365 | C4: Czas od ostatniej transakcji na Catalyst
A5: Oblicz YTM w oparciu o aktualne oprocentowanie | C5: Model nie ma informacji o okresach odsetkowych obligacji, więc nie może uwzględnić zmian WIBOR. Z tego powodu zbudowano dwie możliwości obliczeń:
A6: INSTRUKCJA | C6: 1. Rentowność do wykupu jest liczona przy założeniu, że obligacja do wykupu będzie miała takie same oprocentowanie jak w bieżącym okresie. W sytuacji zmian stóp procentowych będzie to wypaczać wyniki, gdyż obligacja, której podstawą oprocentowania jest stara wartość WIBOR, będzie miała sztucznie zaniżone/zawyżone YTM w stosunku do innych obligacji, które są już w kolejnych okresach odsetkowych z nowym WIBOR. 2. Ponieważ większość obligacji korporacyjnych jest zmiennokuponowa, nie analizuje się oprocentowania, lecz marżę oferowaną ponad WIBOR. Wtedy wszystkie zmiany stóp nie mają wpływu na policzone YTM, które odzwierciedla ile rentowność obligacji przewyższa WIBOR na początku kolejnych okresów odsetkowych. W przypadku obligacji stałokuponowych, YTM liczone w oparciu o wysokość oprocentowania (jak w p. 1) – wynik jest wyższy niż dla zmiennokuponowych, które liczą wyłącznie marżę.
A7: 1. Pobierz dane z linku wybierając „Pobierz pełną liste (XLSX)”. Można pobrać tabele „Obligacje przedsiębiorstw (PLN)”, „Obligacje skarbowe (PLN)” i „Listy zastawne (PLN)”; w zależności od tego jakie papiery chce się widzieć. Program automatycznie pokazuje dane ze wszystkich pobranych arkuszy.
A8: 1b. Zwróć uwagę, żeby pobrane poprzednio (stare) pliki z punku 1 były usunięte.
A9: 2. Uzupełnij powyższe pola (na szaro). W ostatnim wybierz jedną z 2 możliwości. 3. W arkuszu „Emitenci” można wpisać własne nazwy emitentów, ich „credit rating” i adnotacje.
A10: W pierwszej kolejności na liście będą emitenci z wyższym ratingiem (wyższa liczba), potem alfabetycznie. Obligacje danego emitenta sortowane będą rosnąco terminami wykupu. | D10: Informacje zawarte w pliku i jakiekolwiek otrzymane wyniki nie stanowią rekomendacji inwestycyjnej, autor nie ponosi odpowiedzialności za decyzje podjęte na ich podstawie oraz nie gwarantuje, że nie zawierają błędów. Inwestowanie w obligacje wiąże się z ryzykiem i w każdym przypadku powinno być poprzedzone dogłębną analizą. W sytuacji zmiany w wykorzystywanych źródłach danych, program może przestać działać lub pokazywać wypaczone wyniki. Przedstawiony sposób wyszukiwania obligacji jest przykładem rozwiązania, które może być wykorzystane do agregowania bezpłatnych danych o rynku obligacji – ma on na celu pokazanie jak „złożone” dane można wygenerować łącząc kilka źródeł oraz stanowić inspirację do rozwoju własnych sposobów analizy Catalyst.
A11: 4. W arkuszu „Obligacje” można wpisać adnotacje co do poszczególnych serii obligacji np. podporządkowane/zabezpieczone/warunki wcześniejszego wykupu. Można też wpisać ile sztuk danej obligacji się posiada. W punktach 3 i 4 można dowolnie usuwać i dodawać wiersze tabeli, nie należy jednak całkowicie ich usuwać/modyfikować kolumn. Kroki są niewymagane.
A12: 5. Można pobrać dane o kuponach obligacji ze strony obligacje.pl; zob. informacje w arkuszu „Obligacje.pl”. 6. Wybierz „Odśwież wszystko” z menu „Dane” i poczekaj na załadowanie. Zaakceptuj wymagane zgody. LISTA OBLIGACJI WRAZ Z RENTOWNOŚCIAMI POJAWI SIĘ W ARKUSZU „Lista obligacji”. Informacja o wartości posiadanych obligacji z podziałem na emitentów pojawi się w „Portfel”. | D12: Opracował: Antoni Ludwik Łaszewski laszewski.eu | H12: Sprawdź opis programu i potencjalne aktualizacje: laszewski.eu/blog/catall-program-do-analizy-obligacji-catalyst Używasz wersji: catALL_2025_11
A15: Gdy na danej serii obligacji były dokonywane transakcje w dniu pobrania tabeli z ofertami z GPW (oststni dzień sesyjny), w pobranym pliku podana jest godzina transakcji, a nie pełna data. W takim przypadku program zakłada, że dniem zawarcia ostatniej transakcji jest aktualny dzień (odświeżenia modelu w Excel).
A16: Model danych nie pozwala na duplikujące się wartości w tabelach. W przypadku dodania dwa razy tego samego emitenta lub kodu obligacji, odpowiednio w tabelach „Spółki” lub „Obligacje” zostanie on podświetlony na czerwono.
A17: Model nie pokazuje obligacji wieczystych i w innych walutach niż PLN.
A18: Rodzaj oprocentowania pochodzi ze statystyk miesięcznych lub wklejonej ręcznie tabeli z Obligacje.pl. W pierwszym przypadku będzie niedostępny dla obligacji wprowadzonych do obrotu w miesiącu analizy (wybór w komórce A5:B5 nie wpływa na źródło tych danych).
A19: Dla obligacji zerokuponowych przyjęto oprocentowanie stałe (równe 0%).
A20: Model nie pokazuje obligacji zawieszonych i wycofanych z obrotu, chyba ze są wpisane jako posiadane w arkuszu „Obligacje”.
A22: W modelu YTM jest liczone funkcją: RENTOWNOŚĆ(DZIŚ();[@[Termin wykupu]];[@Kupon];[@[Kurs ostatni]];100;2) Jest to rentowność inwestycji w obligację kupioną w dniu analizy, po cenie ostatniej transakcji na Catalyst. Obligacja podlega wykupowi w terminie wykupu po 100% nominału. Założono, że odsetki wypłacane są co pół roku (dwójka na końcu). Pomija się prowizje maklerskie (przy zakupie obligacji z długim terminem do wykupu nie ma to znacznego wypływu), konkretne dni okresów odsetkowych oraz różnicę między ceną czystą i brudną. Otrzymany wynik jest dość dobrym przybliżeniem rentowności obligacji i pozwala na „wytypowanie” emisji wartych dalszej analizy: np. sprawdzenia szczegółowych warunków emisji i skorzystania z kalkulatora Obligacje.pl czy strony GPW. W zależności od wyboru sposobu obliczenia YTM (komórka A5:B5) w funkcji jako kupon (oprocentowanie) podstawiane jest albo oprocentowanie obligacji w danym okresie albo „Marża/Kupon” z tabeli z Obligacje.pl. W polu dodatkowych obliczeń po wyborze obligacji liczone jest dodatkowo YTM przy założeniu kupienia obligacji po najlepszej cenie kupna i sprzedaży z arkusza.

Sheet Emitenci
A1: Emitent GPW | B1: Własna nazwa | C1: Ocena | D1: Adnotacje | F1: „Emitent GPW” musi pokrywać się z nazwą emitenta ze strony z pobieranymi plikami.
A2: 7R | B2: 7R | F2: Ocena to liczba, im większa tym wyżej emitent jest na liście wyników.
A3: ANWIM | B3: Anwim | F3: „Adnotacje” nie są pokazywane w arkuszu z listą, służą jako notatnik.
A4: AOW FAKTORING | B4: AOW Faktoring | F4: Po każdej zmianie kliknij „Odśwież wszystko" aby załadować dane.
A5: ARCHE | B5: Arche
A6: BEST | B6: Best
A7: BGK | B7: BGK
A8: CAVATINA HOLDING | B8: Cavatina
A9: COGNOR | B9: Cognor
A10: CYFROWY POLSAT | B10: Cyfrowy Polsat
A11: DEKPOL | B11: Dekpol
A12: DEVELIA | B12: Develia
A13: DOM DEVELOPMENT | B13: Dom Development
A14: ECHO INVESTMENT | B14: Echo Investment
A15: GHELAMCO INVEST | B15: Ghelamco Invest
A16: INDOS | B16: Indos
... A40: WHITE STONE DEVELOPMENT | B40: White Stone

Sheet Obligacje
A1: Kod obligacji | B1: Adnotacja | C1: Ilość posiadana | E1: Po podaniu liczby posiadanych obligacji ich wartość jest podawana na liście wyników w tys. PLN.
A2: FPC0631 | B2: Wyemitowane na rzecz Funduszu Przeciwdziałania COVID-19; poręczenie SP | E2: Po każdej zmianie kliknij „Odśwież wszystko" aby załadować dane.

Sheet Obligacje.pl
A1: 7R S.A. | B1: SIR0228 | C1: 46787 | D1: zmienne WIBOR 6M | E1: 4.8 | F1: 9.58% | H1: Przekopiuj tabelę z
H2: https://obligacje.pl/pl/narzedzia/wyszukiwarka-obligacji-notowanych
H3: (wybierz „pokaż wszystko” na górze tabeli)
H4: Po każdej zmianie kliknij „Odśwież wszystko" aby załadować dane.

Sheet Statystyki miesięczne
A1: Kod ISIN | B1: Kod obligacji | C1: Rynek | D1: Waluta notowania | E1: Wolumen | F1: Liczba transakcji | G1: Liczba dni z transakcjami | H1: Wartość obrotów (tys. PLN) | I1: Emitent | J1: Data wykupu | K1: Typ oprocentowania | L1: Kupon | M1: Cena nominalna | N1: Wielkość emisji
A2: 1 | B2: 1 | C2: 1 | D2: 1 | E2: 1 | F2: 1 | G2: 1 | H2: 1 | I2: 1 | J2: 1 | K2: 1 | L2: 1 | M2: 1 | N2: 1

Sheet Statystyki dzienne
A1: Termin wykupu | B1: Aktualny kupon | C1: Narosłe odsetki | D1: Nominał | E1: ISIN | F1: Kod obligacji | G1: INF | H1: Waluta | I1: Rynek | J1: Okres do wykupu | K1: Kupon | L1: Termin wykupu (rok) | M1: Termin wykupu (kwartał) | N1: Termin wykupu (indeks miesiąca) | O1: Termin wykupu (miesiąc)
A2: 47484 | B2: 0.01 | C2: 1 | D2: 100 | E2: PL44 | F2: IZ0836 | G2: S | H2: PLN | I2: GPW ASO | J2: 4.1671233 | K2: 0.01 | L2: 2030 | M2: Qtr1 | N2: 1 | O2: sty

Sheet Lista obligacji
A1: Kod obligacji | B1: Emitent | C1: Emitent GPW | D1: Kurs ostatni | E1: Ocena | F1: Liczba transakcji | G1: Bid: wolumen | H1: Bid: limit | I1: Ask: limit | J1: Ask: wolumen | K1: Wolumen skumulowany | L1: Wartość obrotu skumulowana | M1: Data ost. | N1: Kupon | O1: Duration | P1: Rodzaj oprocentowania | Q1: Termin wykupu | R1: YTM | S1: Termin wykupu (rok) | T1: Termin wykupu (kwartał) | U1: Termin wykupu (indeks miesiąca) | V1: Termin wykupu (miesiąc) | W1: Typ emitenta | X1: Wartość | Z1: Wybrana obligacja
A2: IZ0836 | B2: SP | C2: SP | D2: 100 | F2: 1 | G2: 1 | H2: 1 | I2: 1 | J2: 1 | K2: 1 | L2: 1 | M2: 45658 | N2: 0.01 | O2: 4.1671233 | P2: Brak danych | Q2: 47484 | R2: =IF(GPW_razem[[#This Row],[Kupon]]="","",YIELD(TODAY(),GPW_razem[[#This Row],[Termin wykupu]],GPW_razem[[#This Row],[Kupon]],GPW_razem[[#This Row],[Kurs ostatni]],100,2)) -> 0.0099993053 | S2: 2030 | T2: Qtr1 | U2: 1 | V2: sty | W2: SPW | AA2: Kupno | AB2: Sprzedaż | AC2: Legenda | AD2: Kod obligacji | AE2: Brak transakcji w ostatnich 30 dniach
AA3: =IF(AA1="","",IF(_xlfn.XLOOKUP(AA1,A:A,H:H)="","",_xlfn.XLOOKUP(AA1,A:A,H:H))) | AB3: =IF(AA1="","",IF(_xlfn.XLOOKUP(AA1,A:A,I:I)="","",_xlfn.XLOOKUP(AA1,A:A,I:I))) | AD3: Duration | AE3: Pasek ilustruje okres do wykupu, gdy poniżej roku to go brak, rośnie proporcjonalnie do 10 lat (wtedy pełne wypełnienie)
AA4: =IF(AA1="","",IF(_xlfn.XLOOKUP(AA1,A:A,G:G)="","",_xlfn.XLOOKUP(AA1,A:A,G:G))) | AB4: =IF(AA1="","",IF(_xlfn.XLOOKUP(AA1,A:A,J:J)="","",_xlfn.XLOOKUP(AA1,A:A,J:J)))
AA5: =IFERROR(IF(AA1="","",IF(_xlfn.XLOOKUP(AA1,A:A,N:N,"")="","",YIELD(TODAY(),AA16,_xlfn.XLOOKUP(AA1,A:A,N:N),AA3,100,2))),"") | AB5: =IFERROR(IF(AA1="","",IF(_xlfn.XLOOKUP(AA1,A:A,N:N,"")="","",YIELD(TODAY(),AA16,_xlfn.XLOOKUP(AA1,A:A,N:N),AB3,100,2))),"") | AD5: YTM | AE5: Obligacja stało/zero kuponowa
AA6: =IF(AA1="","",_xlfn.XLOOKUP(AA1,A:A,D:D)) | AD6: YTM | AE6: Obligacja indeksowana inflacją | AG6: Zob. ich analizę
AA7: =IF(AA1="","",IF(_xlfn.XLOOKUP(AA1,A:A,K:K)="",TODAY()-_xlfn.XLOOKUP(AA1,A:A,M:M)&" dni",_xlfn.XLOOKUP(AA1,A:A,K:K))) | AD7: YTM | AE7: Brak danych o typie oprocentowania (dane ze statystyk miesięcznych lub Obligacje.pl – w pierwszym przypadku nie są dostępne w miesiącu wprowadzenia do obrotu)
AA8: =IFERROR(IF(AA1="","",_xlfn.XLOOKUP(AA1,A:A,R:R)),"") | AD8: YTM | AE8: Obligacja zmiennokuponowa
AA9: Ostatnia transakcja (wolumen obrotu w ostatnim dniu sesyjnym lub liczba dni od ostatniej transakcji) | AD9: Kolumna "Kupon" w tabeli pokazuje, w zależności od wyboru sposobu liczenia rentowności, aktualne oprocentowanie lub "Marża/kupon" z tabeli z Obligacje.pl. Wartość ta jest brana do obliczenia YTM.
AD10: Po wyborze obligacji marża jest podawana tylko w przypadku zmiennokuponowych. Jej wyświetlenie, tak samo jak rodzaju oprocentowania, wymaga wklejenia danych z Obligacje.pl
AC11: =IF(AA1="","",_xlfn.IMAGE("https://stooq.pl/c/?s="&AA1&".pl&c=5m&t=c&a=lg&b&svg.jpg",""))
Z15: Wielkość emisji (mln) | AA15: =IFERROR(IF(AA1="","",_xlfn.XLOOKUP(AA1,'Statystyki miesięczne'!B:B,'Statystyki miesięczne'!N:N)/1000000),"")
Z16: Data wykupu | AA16: =IF(AA1="","",_xlfn.XLOOKUP(AA1,'Statystyki dzienne'!F:F,'Statystyki dzienne'!A:A))
Z17: Nominał | AA17: =IF(AA1="","",_xlfn.XLOOKUP(AA1,'Statystyki dzienne'!F:F,'Statystyki dzienne'!D:D))
Z18: Narosłe odsetki | AA18: =IF(AA1="","",IF(_xlfn.XLOOKUP(AA1,'Statystyki dzienne'!F:F,'Statystyki dzienne'!C:C,"")="","",_xlfn.XLOOKUP(AA1,'Statystyki dzienne'!F:F,'Statystyki dzienne'!C:C)))
Z19: Aktualny kupon | AA19: =IF(AA1="","",_xlfn.XLOOKUP(AA1,'Statystyki dzienne'!F:F,'Statystyki dzienne'!K:K,""))
Z20: Marża | AA20: =IF(AA1="","",IF(_xlfn.XLOOKUP(AA1,A:A,P:P)="Zmienne",_xlfn.XLOOKUP(AA1,Obligacje_pl!B:B,Obligacje_pl!E:E,""),""))
Z21: Rodzaj oprocentowania | AA21: =IF(AA1="","",_xlfn.XLOOKUP(AA1,Obligacje_pl!B:B,Obligacje_pl!D:D,_xlfn.XLOOKUP('Lista obligacji'!AA1,'Lista obligacji'!A:A,'Lista obligacji'!P:P)))
Z22: Wielkość obrotów w poprzednim msc. (tys.) | AA22: =IF(AA1="","",_xlfn.XLOOKUP(AA1,'Statystyki miesięczne'!B:B,'Statystyki miesięczne'!H:H,""))
Z24: Procent dni z transakcjami w poprzednim miesiącu | AA24: =IFERROR(IF(AA1="","",_xlfn.XLOOKUP(AA1,'Statystyki miesięczne'!B:B,'Statystyki miesięczne'!G:G)/MAX('Statystyki miesięczne'!G:G)),"")
Z28: Adnotacja do serii obligacji | AA28: =IF(IF(AA1="","",_xlfn.XLOOKUP(AA1,Obligacje!A:A,Obligacje!B:B,""))=0,"",IF(AA1="","",_xlfn.XLOOKUP(AA1,Obligacje!A:A,Obligacje!B:B,"")))
AA36: Kupno | AB36: Sprzedaż
AA37: =$AA$3 | AB37: =$AB$3
AA38: =$AA$4 | AB38: =$AB$4
AA39: =$AA$5 | AB39: =$AB$5
AA40: =$AA$6
AA41: =$AA$7
AA42: =$AA$8
AA43: Ostatnia transakcja (wolumen obrotu w ostatnim dniu sesyjnym lub liczba dni od ostatniej transakcji)
AC45: =$AC$11
Z49: Wielkość emisji (mln) | AA49: =$AA$15
Z50: Data wykupu | AA50: =$AA$16
Z51: Nominał | AA51: =$AA$17
Z52: Narosłe odsetki | AA52: =$AA$18
Z53: Aktualny kupon | AA53: =$AA$19
Z54: Marża | AA54: =$AA$20
Z55: Rodzaj oprocentowania | AA55: =$AA$21
Z56: Wielkość obrotów w poprzednim msc. (tys.) | AA56: =$AA$22
Z58: Procent dni z transakcjami w poprzednim miesiącu | AA58: =$AA$24
Z62: =$Z$28 -> Adnotacja do serii obligacji | AA62: =$AA$28
AA70: Kupno | AB70: Sprzedaż
AA71: =$AA$3 | AB71: =$AB$3
AA72: =$AA$4 | AB72: =$AB$4
AA73: =$AA$5 | AB73: =$AB$5
AA74: =$AA$6
AA75: =$AA$7
AA76: =$AA$8
AA77: Ostatnia transakcja (wolumen obrotu w ostatnim dniu sesyjnym lub liczba dni od ostatniej transakcji)
AC79: =$AC$11
Z83: Wielkość emisji (mln) | AA83: =$AA$15
Z84: Data wykupu | AA84: =$AA$16
Z85: Nominał | AA85: =$AA$17
Z86: Narosłe odsetki | AA86: =$AA$18
Z87: Aktualny kupon | AA87: =$AA$19
Z88: Marża | AA88: =$AA$20
Z89: Rodzaj oprocentowania | AA89: =$AA$21
Z90: Wielkość obrotów w poprzednim msc. (tys.) | AA90: =$AA$22
Z92: Procent dni z transakcjami w poprzednim miesiącu | AA92: =$AA$24
Z96: =$Z$28 -> Adnotacja do serii obligacji | AA96: =$AA$28
AA104: Kupno | AB104: Sprzedaż
AA105: =$AA$3 | AB105: =$AB$3
AA106: =$AA$4 | AB106: =$AB$4
AA107: =$AA$5 | AB107: =$AB$5
AA108: =$AA$6
AA109: =$AA$7
AA110: =$AA$8
AA111: Ostatnia transakcja (wolumen obrotu w ostatnim dniu sesyjnym lub liczba dni od ostatniej transakcji)
AC113: =$AC$11
Z117: Wielkość emisji (mln) | AA117: =$AA$15
Z118: Data wykupu | AA118: =$AA$16
Z119: Nominał | AA119: =$AA$17
Z120: Narosłe odsetki | AA120: =$AA$18
Z121: Aktualny kupon | AA121: =$AA$19
Z122: Marża | AA122: =$AA$20
Z123: Rodzaj oprocentowania | AA123: =$AA$21
Z124: Wielkość obrotów w poprzednim msc. (tys.) | AA124: =$AA$22
Z126: Procent dni z transakcjami w poprzednim miesiącu | AA126: =$AA$24
Z130: =$Z$28 -> Adnotacja do serii obligacji | AA130: =$AA$28
AA138: Kupno | AB138: Sprzedaż
AA139: =$AA$3 | AB139: =$AB$3
AA140: =$AA$4 | AB140: =$AB$4
AA141: =$AA$5 | AB141: =$AB$5
AA142: =$AA$6
AA143: =$AA$7
AA144: =$AA$8
AA145: Ostatnia transakcja (wolumen obrotu w ostatnim dniu sesyjnym lub liczba dni od ostatniej transakcji)
AC147: =$AC$11
Z151: Wielkość emisji (mln) | AA151: =$AA$15
Z152: Data wykupu | AA152: =$AA$16
Z153: Nominał | AA153: =$AA$17
Z154: Narosłe odsetki | AA154: =$AA$18
Z155: Aktualny kupon | AA155: =$AA$19
Z156: Marża | AA156: =$AA$20
Z157: Rodzaj oprocentowania | AA157: =$AA$21
Z158: Wielkość obrotów w poprzednim msc. (tys.) | AA158: =$AA$22
Z160: Procent dni z transakcjami w poprzednim miesiącu | AA160: =$AA$24
Z164: =$Z$28 -> Adnotacja do serii obligacji | AA164: =$AA$28
AA172: Kupno | AB172: Sprzedaż
AA173: =$AA$3 | AB173: =$AB$3
AA174: =$AA$4 | AB174: =$AB$4
...

Sheet Obligacje_pl
A1: Emitent | B1: Kod obligacji | C1: Termin wykupu | D1: Rodzaj oprocentowania | E1: Marża | F1: Aktualny kupon
A2: 7R S.A. | B2: SIR0228 | C2: 46787 | D2: zmienne WIBOR 6M | E2: 0.048 | F2: 0.0958

Sheet Portfel
A1: Obligacje | B1: Wartość
M8: Po wybraniu typu emitenta na powyższym filtrze program pokaże tylko obligacje skarbowe (i BKG) lub tylko korporacyjne. Jest to przydatne przy analizie udziału danego emitenta w portfelu (części korporacyjnej).
