Workbook

Sheet Mnożnik wartości przyszłej
B1: WARTOŚĆ PRZYSZŁA | N1: =B1 -> WARTOŚĆ PRZYSZŁA
B2: Okres/stopa | C2: 1% | D2: 2% | E2: 3% | F2: 4% | G2: 5% | H2: 6% | I2: 7% | J2: 8% | K2: 9% | L2: 10% | M2: Okres/stopa. | N2: 11% | O2: 12% | P2: 13% | Q2: 14% | R2: 15% | S2: 16% | T2: 17% | U2: 18% | V2: 19% | W2: 20%
B3: 1 | C3: =(1+C$2)^$B3 -> 1.01 | D3: =(1+D$2)^$B3 -> 1.02 | E3: =(1+E$2)^$B3 -> 1.03 | F3: =(1+F$2)^$B3 -> 1.04 | G3: =(1+G$2)^$B3 -> 1.05 | H3: =(1+H$2)^$B3 -> 1.06 | I3: =(1+I$2)^$B3 -> 1.07 | J3: =(1+J$2)^$B3 -> 1.08 | ... L3: =(1+L$2)^$B3 -> 1.1 | M3: 1 | N3: =(1+N$2)^$B3 -> 1.11 | O3: =(1+O$2)^$B3 -> 1.12 | P3: =(1+P$2)^$B3 -> 1.13 | Q3: =(1+Q$2)^$B3 -> 1.14 | R3: =(1+R$2)^$B3 -> 1.15 | S3: =(1+S$2)^$B3 -> 1.16 | T3: =(1+T$2)^$B3 -> 1.17 | U3: =(1+U$2)^$B3 -> 1.18 | ... W3: =(1+W$2)^$B3 -> 1.2
B4: 2 | C4: =(1+C$2)^$B4 -> 1.0201 | D4: =(1+D$2)^$B4 -> 1.0404 | E4: =(1+E$2)^$B4 -> 1.0609 | F4: =(1+F$2)^$B4 -> 1.0816 | G4: =(1+G$2)^$B4 -> 1.1025 | H4: =(1+H$2)^$B4 -> 1.1236 | I4: =(1+I$2)^$B4 -> 1.1449 | J4: =(1+J$2)^$B4 -> 1.1664 | ... L4: =(1+L$2)^$B4 -> 1.21 | M4: 2 | N4: =(1+N$2)^$B4 -> 1.2321 | O4: =(1+O$2)^$B4 -> 1.2544 | P4: =(1+P$2)^$B4 -> 1.2769 | Q4: =(1+Q$2)^$B4 -> 1.2996 | R4: =(1+R$2)^$B4 -> 1.3225 | S4: =(1+S$2)^$B4 -> 1.3456 | T4: =(1+T$2)^$B4 -> 1.3689 | U4: =(1+U$2)^$B4 -> 1.3924 | ... W4: =(1+W$2)^$B4 -> 1.44
B5: 3 | C5: =(1+C$2)^$B5 -> 1.030301 | D5: =(1+D$2)^$B5 -> 1.061208 | E5: =(1+E$2)^$B5 -> 1.092727 | F5: =(1+F$2)^$B5 -> 1.124864 | G5: =(1+G$2)^$B5 -> 1.157625 | H5: =(1+H$2)^$B5 -> 1.191016 | I5: =(1+I$2)^$B5 -> 1.225043 | J5: =(1+J$2)^$B5 -> 1.259712 | ... L5: =(1+L$2)^$B5 -> 1.331 | M5: 3 | N5: =(1+N$2)^$B5 -> 1.367631 | O5: =(1+O$2)^$B5 -> 1.404928 | P5: =(1+P$2)^$B5 -> 1.442897 | Q5: =(1+Q$2)^$B5 -> 1.481544 | R5: =(1+R$2)^$B5 -> 1.520875 | S5: =(1+S$2)^$B5 -> 1.560896 | T5: =(1+T$2)^$B5 -> 1.601613 | U5: =(1+U$2)^$B5 -> 1.643032 | ... W5: =(1+W$2)^$B5 -> 1.728
B6: 4 | C6: =(1+C$2)^$B6 -> 1.040604 | D6: =(1+D$2)^$B6 -> 1.0824322 | E6: =(1+E$2)^$B6 -> 1.1255088 | F6: =(1+F$2)^$B6 -> 1.1698586 | G6: =(1+G$2)^$B6 -> 1.2155063 | H6: =(1+H$2)^$B6 -> 1.262477 | I6: =(1+I$2)^$B6 -> 1.310796 | J6: =(1+J$2)^$B6 -> 1.360489 | ... L6: =(1+L$2)^$B6 -> 1.4641 | M6: 4 | N6: =(1+N$2)^$B6 -> 1.5180704 | O6: =(1+O$2)^$B6 -> 1.5735194 | P6: =(1+P$2)^$B6 -> 1.6304736 | Q6: =(1+Q$2)^$B6 -> 1.6889602 | R6: =(1+R$2)^$B6 -> 1.7490062 | S6: =(1+S$2)^$B6 -> 1.8106394 | T6: =(1+T$2)^$B6 -> 1.8738872 | U6: =(1+U$2)^$B6 -> 1.9387778 | ... W6: =(1+W$2)^$B6 -> 2.0736
B7: 5 | C7: =(1+C$2)^$B7 -> 1.0510101 | D7: =(1+D$2)^$B7 -> 1.1040808 | E7: =(1+E$2)^$B7 -> 1.1592741 | F7: =(1+F$2)^$B7 -> 1.2166529 | G7: =(1+G$2)^$B7 -> 1.2762816 | H7: =(1+H$2)^$B7 -> 1.3382256 | I7: =(1+I$2)^$B7 -> 1.4025517 | J7: =(1+J$2)^$B7 -> 1.4693281 | ... L7: =(1+L$2)^$B7 -> 1.61051 | M7: 5 | N7: =(1+N$2)^$B7 -> 1.6850582 | O7: =(1+O$2)^$B7 -> 1.7623417 | P7: =(1+P$2)^$B7 -> 1.8424352 | Q7: =(1+Q$2)^$B7 -> 1.9254146 | R7: =(1+R$2)^$B7 -> 2.0113572 | S7: =(1+S$2)^$B7 -> 2.1003417 | T7: =(1+T$2)^$B7 -> 2.192448 | U7: =(1+U$2)^$B7 -> 2.2877578 | ... W7: =(1+W$2)^$B7 -> 2.48832
B8: 6 | C8: =(1+C$2)^$B8 -> 1.0615202 | D8: =(1+D$2)^$B8 -> 1.1261624 | E8: =(1+E$2)^$B8 -> 1.1940523 | F8: =(1+F$2)^$B8 -> 1.265319 | G8: =(1+G$2)^$B8 -> 1.3400956 | H8: =(1+H$2)^$B8 -> 1.4185191 | I8: =(1+I$2)^$B8 -> 1.5007304 | J8: =(1+J$2)^$B8 -> 1.5868743 | ... L8: =(1+L$2)^$B8 -> 1.771561 | M8: 6 | N8: =(1+N$2)^$B8 -> 1.8704146 | O8: =(1+O$2)^$B8 -> 1.9738227 | P8: =(1+P$2)^$B8 -> 2.0819518 | Q8: =(1+Q$2)^$B8 -> 2.1949726 | R8: =(1+R$2)^$B8 -> 2.3130608 | S8: =(1+S$2)^$B8 -> 2.4363963 | T8: =(1+T$2)^$B8 -> 2.5651642 | U8: =(1+U$2)^$B8 -> 2.6995542 | ... W8: =(1+W$2)^$B8 -> 2.985984
B9: 7 | C9: =(1+C$2)^$B9 -> 1.0721354 | D9: =(1+D$2)^$B9 -> 1.1486857 | E9: =(1+E$2)^$B9 -> 1.2298739 | F9: =(1+F$2)^$B9 -> 1.3159318 | G9: =(1+G$2)^$B9 -> 1.4071004 | H9: =(1+H$2)^$B9 -> 1.5036303 | I9: =(1+I$2)^$B9 -> 1.6057815 | J9: =(1+J$2)^$B9 -> 1.7138243 | ... L9: =(1+L$2)^$B9 -> 1.9487171 | M9: 7 | N9: =(1+N$2)^$B9 -> 2.0761602 | O9: =(1+O$2)^$B9 -> 2.2106814 | P9: =(1+P$2)^$B9 -> 2.3526055 | Q9: =(1+Q$2)^$B9 -> 2.5022688 | R9: =(1+R$2)^$B9 -> 2.6600199 | S9: =(1+S$2)^$B9 -> 2.8262197 | T9: =(1+T$2)^$B9 -> 3.0012421 | U9: =(1+U$2)^$B9 -> 3.1854739 | ... W9: =(1+W$2)^$B9 -> 3.5831808
B10: 8 | C10: =(1+C$2)^$B10 -> 1.0828567 | D10: =(1+D$2)^$B10 -> 1.1716594 | E10: =(1+E$2)^$B10 -> 1.2667701 | F10: =(1+F$2)^$B10 -> 1.3685691 | G10: =(1+G$2)^$B10 -> 1.4774554 | H10: =(1+H$2)^$B10 -> 1.5938481 | I10: =(1+I$2)^$B10 -> 1.7181862 | J10: =(1+J$2)^$B10 -> 1.8509302 | ... L10: =(1+L$2)^$B10 -> 2.1435888 | M10: 8 | N10: =(1+N$2)^$B10 -> 2.3045378 | O10: =(1+O$2)^$B10 -> 2.4759632 | P10: =(1+P$2)^$B10 -> 2.6584442 | Q10: =(1+Q$2)^$B10 -> 2.8525864 | R10: =(1+R$2)^$B10 -> 3.0590229 | S10: =(1+S$2)^$B10 -> 3.2784149 | T10: =(1+T$2)^$B10 -> 3.5114533 | U10: =(1+U$2)^$B10 -> 3.7588592 | ... W10: =(1+W$2)^$B10 -> 4.299817
B11: 9 | C11: =(1+C$2)^$B11 -> 1.0936853 | D11: =(1+D$2)^$B11 -> 1.1950926 | E11: =(1+E$2)^$B11 -> 1.3047732 | F11: =(1+F$2)^$B11 -> 1.4233118 | G11: =(1+G$2)^$B11 -> 1.5513282 | H11: =(1+H$2)^$B11 -> 1.689479 | I11: =(1+I$2)^$B11 -> 1.8384592 | J11: =(1+J$2)^$B11 -> 1.9990046 | ... L11: =(1+L$2)^$B11 -> 2.3579477 | M11: 9 | N11: =(1+N$2)^$B11 -> 2.5580369 | O11: =(1+O$2)^$B11 -> 2.7730788 | P11: =(1+P$2)^$B11 -> 3.0040419 | Q11: =(1+Q$2)^$B11 -> 3.2519485 | R11: =(1+R$2)^$B11 -> 3.5178763 | S11: =(1+S$2)^$B11 -> 3.8029613 | T11: =(1+T$2)^$B11 -> 4.1084003 | U11: =(1+U$2)^$B11 -> 4.4354539 | ... W11: =(1+W$2)^$B11 -> 5.1597804
B12: 10 | C12: =(1+C$2)^$B12 -> 1.1046221 | D12: =(1+D$2)^$B12 -> 1.2189944 | E12: =(1+E$2)^$B12 -> 1.3439164 | F12: =(1+F$2)^$B12 -> 1.4802443 | G12: =(1+G$2)^$B12 -> 1.6288946 | H12: =(1+H$2)^$B12 -> 1.7908477 | I12: =(1+I$2)^$B12 -> 1.9671514 | J12: =(1+J$2)^$B12 -> 2.158925 | ... L12: =(1+L$2)^$B12 -> 2.5937425 | M12: 10 | N12: =(1+N$2)^$B12 -> 2.839421 | O12: =(1+O$2)^$B12 -> 3.1058482 | P12: =(1+P$2)^$B12 -> 3.3945674 | Q12: =(1+Q$2)^$B12 -> 3.7072213 | R12: =(1+R$2)^$B12 -> 4.0455577 | S12: =(1+S$2)^$B12 -> 4.4114351 | T12: =(1+T$2)^$B12 -> 4.8068284 | U12: =(1+U$2)^$B12 -> 5.2338356 | ... W12: =(1+W$2)^$B12 -> 6.1917364
B13: 11 | C13: =(1+C$2)^$B13 -> 1.1156683 | D13: =(1+D$2)^$B13 -> 1.2433743 | E13: =(1+E$2)^$B13 -> 1.3842339 | F13: =(1+F$2)^$B13 -> 1.5394541 | G13: =(1+G$2)^$B13 -> 1.7103394 | H13: =(1+H$2)^$B13 -> 1.8982986 | I13: =(1+I$2)^$B13 -> 2.104852 | J13: =(1+J$2)^$B13 -> 2.331639 | ... L13: =(1+L$2)^$B13 -> 2.8531167 | M13: 11 | N13: =(1+N$2)^$B13 -> 3.1517573 | O13: =(1+O$2)^$B13 -> 3.47855 | P13: =(1+P$2)^$B13 -> 3.8358612 | Q13: =(1+Q$2)^$B13 -> 4.2262323 | R13: =(1+R$2)^$B13 -> 4.6523914 | S13: =(1+S$2)^$B13 -> 5.1172647 | T13: =(1+T$2)^$B13 -> 5.6239892 | U13: =(1+U$2)^$B13 -> 6.175926 | ... W13: =(1+W$2)^$B13 -> 7.4300837
B14: 12 | C14: =(1+C$2)^$B14 -> 1.126825 | D14: =(1+D$2)^$B14 -> 1.2682418 | E14: =(1+E$2)^$B14 -> 1.4257609 | F14: =(1+F$2)^$B14 -> 1.6010322 | G14: =(1+G$2)^$B14 -> 1.7958563 | H14: =(1+H$2)^$B14 -> 2.0121965 | I14: =(1+I$2)^$B14 -> 2.2521916 | J14: =(1+J$2)^$B14 -> 2.5181701 | ... L14: =(1+L$2)^$B14 -> 3.1384284 | M14: 12 | N14: =(1+N$2)^$B14 -> 3.4984506 | O14: =(1+O$2)^$B14 -> 3.895976 | P14: =(1+P$2)^$B14 -> 4.3345231 | Q14: =(1+Q$2)^$B14 -> 4.8179048 | R14: =(1+R$2)^$B14 -> 5.3502501 | S14: =(1+S$2)^$B14 -> 5.936027 | T14: =(1+T$2)^$B14 -> 6.5800674 | U14: =(1+U$2)^$B14 -> 7.2875926 | ... W14: =(1+W$2)^$B14 -> 8.9161004
... B36: 70 | C36: =(1+C$2)^$B36 -> 2.0067634 | D36: =(1+D$2)^$B36 -> 3.9995582 | E36: =(1+E$2)^$B36 -> 7.9178219 | F36: =(1+F$2)^$B36 -> 15.571618 | G36: =(1+G$2)^$B36 -> 30.426426 | H36: =(1+H$2)^$B36 -> 59.07593 | I36: =(1+I$2)^$B36 -> 113.98939 | J36: =(1+J$2)^$B36 -> 218.60641 | ... L36: =(1+L$2)^$B36 -> 789.74696 | M36: 70 | N36: =(1+N$2)^$B36 -> 1488.0191 | O36: =(1+O$2)^$B36 -> 2787.7998 | P36: =(1+P$2)^$B36 -> 5193.8696 | Q36: =(1+Q$2)^$B36 -> 9623.645 | R36: =(1+R$2)^$B36 -> 17735.72 | S36: =(1+S$2)^$B36 -> 32513.165 | T36: =(1+T$2)^$B36 -> 59293.942 | U36: =(1+U$2)^$B36 -> 107582.22 | ... W36: =(1+W$2)^$B36 -> 348888.96
A37: Zobacz więcej o przygotowaniu do egzaminu: https://laszewski.eu/blog/przygotowanie-do-egzaminu-maklerskiego | H37: Autor nie ponosi odpowiedzialności za różnice pomiędzy zawartością pliku a tablicami udostępnianymi podczas egzaminu MPW, ani za ewentualne błędy w obliczeniach. Szczegółowy wygląd oryginalnych tablic egzaminacyjnych podlega ochronie prawnoautorskiej. Przedstawione w tym pliku obliczenia oraz zastosowane funkcje w Excelu stanowią utwór inspirowany, oparty wyłącznie na powszechnie znanych wzorach matematycznych oraz obejmujący te same zakresy okresów i stóp procentowych. | M37: =A37 -> Zobacz więcej o przygotowaniu do egzaminu: https://laszewski.eu/blog/przygotowanie-do-egzaminu-maklerskiego | T37: =H37 -> Autor nie ponosi odpowiedzialności za różnice pomiędzy zawartością pliku a tablicami udostępnianymi podczas egzaminu MPW, ani za ewentualne błędy w obliczeniach. Szczegółowy wygląd oryginalnych tablic egzaminacyjnych podlega ochronie prawnoautorskiej. Przedstawione w tym pliku obliczenia oraz zastosowane funkcje w Excelu stanowią utwór inspirowany, oparty wyłącznie na powszechnie znanych wzorach matematycznych oraz obejmujący te same zakresy okresów i stóp procentowych.
A39: Opracował: Antoni Ludwik Łaszewski, Makler Papierów Wartościowych nr 3828 | M39: =A39 -> Opracował: Antoni Ludwik Łaszewski, Makler Papierów Wartościowych nr 3828
A40: laszewski.eu | M40: =A40 -> laszewski.eu

Sheet Mnożnik wartości bieżącej
B1: WARTOŚĆ BIEŻĄCA | N1: =B1 -> WARTOŚĆ BIEŻĄCA
B2: Okres/stopa | C2: 1% | D2: 2% | E2: 3% | F2: 4% | G2: 5% | H2: 6% | I2: 7% | J2: 8% | K2: 9% | L2: 10% | M2: Okres/stopa. | N2: 11% | O2: 12% | P2: 13% | Q2: 14% | R2: 15% | S2: 16% | T2: 17% | U2: 18% | V2: 19% | W2: 20%
B3: 1 | C3: =1/((1+C$2)^$B3) -> 0.99009901 | D3: =1/((1+D$2)^$B3) -> 0.98039216 | E3: =1/((1+E$2)^$B3) -> 0.97087379 | F3: =1/((1+F$2)^$B3) -> 0.96153846 | G3: =1/((1+G$2)^$B3) -> 0.95238095 | H3: =1/((1+H$2)^$B3) -> 0.94339623 | I3: =1/((1+I$2)^$B3) -> 0.93457944 | J3: =1/((1+J$2)^$B3) -> 0.92592593 | ... L3: =1/((1+L$2)^$B3) -> 0.90909091 | M3: 1 | N3: =1/((1+N$2)^$B3) -> 0.9009009 | O3: =1/((1+O$2)^$B3) -> 0.89285714 | P3: =1/((1+P$2)^$B3) -> 0.88495575 | Q3: =1/((1+Q$2)^$B3) -> 0.87719298 | R3: =1/((1+R$2)^$B3) -> 0.86956522 | S3: =1/((1+S$2)^$B3) -> 0.86206897 | T3: =1/((1+T$2)^$B3) -> 0.85470085 | U3: =1/((1+U$2)^$B3) -> 0.84745763 | ... W3: =1/((1+W$2)^$B3) -> 0.83333333
B4: 2 | C4: =1/((1+C$2)^$B4) -> 0.98029605 | D4: =1/((1+D$2)^$B4) -> 0.96116878 | E4: =1/((1+E$2)^$B4) -> 0.94259591 | F4: =1/((1+F$2)^$B4) -> 0.92455621 | G4: =1/((1+G$2)^$B4) -> 0.90702948 | H4: =1/((1+H$2)^$B4) -> 0.88999644 | I4: =1/((1+I$2)^$B4) -> 0.87343873 | J4: =1/((1+J$2)^$B4) -> 0.85733882 | ... L4: =1/((1+L$2)^$B4) -> 0.82644628 | M4: 2 | N4: =1/((1+N$2)^$B4) -> 0.81162243 | O4: =1/((1+O$2)^$B4) -> 0.79719388 | P4: =1/((1+P$2)^$B4) -> 0.78314668 | Q4: =1/((1+Q$2)^$B4) -> 0.76946753 | R4: =1/((1+R$2)^$B4) -> 0.75614367 | S4: =1/((1+S$2)^$B4) -> 0.7431629 | T4: =1/((1+T$2)^$B4) -> 0.73051355 | U4: =1/((1+U$2)^$B4) -> 0.71818443 | ... W4: =1/((1+W$2)^$B4) -> 0.69444444
B5: 3 | C5: =1/((1+C$2)^$B5) -> 0.97059015 | D5: =1/((1+D$2)^$B5) -> 0.94232233 | E5: =1/((1+E$2)^$B5) -> 0.91514166 | F5: =1/((1+F$2)^$B5) -> 0.88899636 | G5: =1/((1+G$2)^$B5) -> 0.8638376 | H5: =1/((1+H$2)^$B5) -> 0.83961928 | I5: =1/((1+I$2)^$B5) -> 0.81629788 | J5: =1/((1+J$2)^$B5) -> 0.79383224 | ... L5: =1/((1+L$2)^$B5) -> 0.7513148 | M5: 3 | N5: =1/((1+N$2)^$B5) -> 0.73119138 | O5: =1/((1+O$2)^$B5) -> 0.71178025 | P5: =1/((1+P$2)^$B5) -> 0.69305016 | Q5: =1/((1+Q$2)^$B5) -> 0.67497152 | R5: =1/((1+R$2)^$B5) -> 0.65751623 | S5: =1/((1+S$2)^$B5) -> 0.64065767 | T5: =1/((1+T$2)^$B5) -> 0.62437056 | U5: =1/((1+U$2)^$B5) -> 0.60863087 | ... W5: =1/((1+W$2)^$B5) -> 0.5787037
B6: 4 | C6: =1/((1+C$2)^$B6) -> 0.96098034 | D6: =1/((1+D$2)^$B6) -> 0.92384543 | E6: =1/((1+E$2)^$B6) -> 0.88848705 | F6: =1/((1+F$2)^$B6) -> 0.85480419 | G6: =1/((1+G$2)^$B6) -> 0.82270247 | H6: =1/((1+H$2)^$B6) -> 0.79209366 | I6: =1/((1+I$2)^$B6) -> 0.76289521 | J6: =1/((1+J$2)^$B6) -> 0.73502985 | ... L6: =1/((1+L$2)^$B6) -> 0.68301346 | M6: 4 | N6: =1/((1+N$2)^$B6) -> 0.65873097 | O6: =1/((1+O$2)^$B6) -> 0.63551808 | P6: =1/((1+P$2)^$B6) -> 0.61331873 | Q6: =1/((1+Q$2)^$B6) -> 0.59208028 | R6: =1/((1+R$2)^$B6) -> 0.57175325 | S6: =1/((1+S$2)^$B6) -> 0.5522911 | T6: =1/((1+T$2)^$B6) -> 0.53365005 | U6: =1/((1+U$2)^$B6) -> 0.51578888 | ... W6: =1/((1+W$2)^$B6) -> 0.48225309
B7: 5 | C7: =1/((1+C$2)^$B7) -> 0.95146569 | D7: =1/((1+D$2)^$B7) -> 0.90573081 | E7: =1/((1+E$2)^$B7) -> 0.86260878 | F7: =1/((1+F$2)^$B7) -> 0.82192711 | G7: =1/((1+G$2)^$B7) -> 0.78352617 | H7: =1/((1+H$2)^$B7) -> 0.74725817 | I7: =1/((1+I$2)^$B7) -> 0.71298618 | J7: =1/((1+J$2)^$B7) -> 0.6805832 | ... L7: =1/((1+L$2)^$B7) -> 0.62092132 | M7: 5 | N7: =1/((1+N$2)^$B7) -> 0.59345133 | O7: =1/((1+O$2)^$B7) -> 0.56742686 | P7: =1/((1+P$2)^$B7) -> 0.54275994 | Q7: =1/((1+Q$2)^$B7) -> 0.51936866 | R7: =1/((1+R$2)^$B7) -> 0.49717674 | S7: =1/((1+S$2)^$B7) -> 0.47611302 | T7: =1/((1+T$2)^$B7) -> 0.45611115 | U7: =1/((1+U$2)^$B7) -> 0.43710922 | ... W7: =1/((1+W$2)^$B7) -> 0.40187757
B8: 6 | C8: =1/((1+C$2)^$B8) -> 0.94204524 | D8: =1/((1+D$2)^$B8) -> 0.88797138 | E8: =1/((1+E$2)^$B8) -> 0.83748426 | F8: =1/((1+F$2)^$B8) -> 0.79031453 | G8: =1/((1+G$2)^$B8) -> 0.7462154 | H8: =1/((1+H$2)^$B8) -> 0.70496054 | I8: =1/((1+I$2)^$B8) -> 0.66634222 | J8: =1/((1+J$2)^$B8) -> 0.63016963 | ... L8: =1/((1+L$2)^$B8) -> 0.56447393 | M8: 6 | N8: =1/((1+N$2)^$B8) -> 0.53464084 | O8: =1/((1+O$2)^$B8) -> 0.50663112 | P8: =1/((1+P$2)^$B8) -> 0.48031853 | Q8: =1/((1+Q$2)^$B8) -> 0.45558655 | R8: =1/((1+R$2)^$B8) -> 0.4323276 | S8: =1/((1+S$2)^$B8) -> 0.41044225 | T8: =1/((1+T$2)^$B8) -> 0.38983859 | U8: =1/((1+U$2)^$B8) -> 0.37043154 | ... W8: =1/((1+W$2)^$B8) -> 0.33489798
B9: 7 | C9: =1/((1+C$2)^$B9) -> 0.93271805 | D9: =1/((1+D$2)^$B9) -> 0.87056018 | E9: =1/((1+E$2)^$B9) -> 0.81309151 | F9: =1/((1+F$2)^$B9) -> 0.75991781 | G9: =1/((1+G$2)^$B9) -> 0.71068133 | H9: =1/((1+H$2)^$B9) -> 0.66505711 | I9: =1/((1+I$2)^$B9) -> 0.62274974 | J9: =1/((1+J$2)^$B9) -> 0.5834904 | ... L9: =1/((1+L$2)^$B9) -> 0.51315812 | M9: 7 | N9: =1/((1+N$2)^$B9) -> 0.48165841 | O9: =1/((1+O$2)^$B9) -> 0.45234922 | P9: =1/((1+P$2)^$B9) -> 0.42506064 | Q9: =1/((1+Q$2)^$B9) -> 0.39963732 | R9: =1/((1+R$2)^$B9) -> 0.37593704 | S9: =1/((1+S$2)^$B9) -> 0.35382953 | T9: =1/((1+T$2)^$B9) -> 0.33319538 | U9: =1/((1+U$2)^$B9) -> 0.31392503 | ... W9: =1/((1+W$2)^$B9) -> 0.27908165
B10: 8 | C10: =1/((1+C$2)^$B10) -> 0.92348322 | D10: =1/((1+D$2)^$B10) -> 0.85349037 | E10: =1/((1+E$2)^$B10) -> 0.78940923 | F10: =1/((1+F$2)^$B10) -> 0.73069021 | G10: =1/((1+G$2)^$B10) -> 0.67683936 | H10: =1/((1+H$2)^$B10) -> 0.62741237 | I10: =1/((1+I$2)^$B10) -> 0.5820091 | J10: =1/((1+J$2)^$B10) -> 0.54026888 | ... L10: =1/((1+L$2)^$B10) -> 0.46650738 | M10: 8 | N10: =1/((1+N$2)^$B10) -> 0.4339265 | O10: =1/((1+O$2)^$B10) -> 0.40388323 | P10: =1/((1+P$2)^$B10) -> 0.37615986 | Q10: =1/((1+Q$2)^$B10) -> 0.35055905 | R10: =1/((1+R$2)^$B10) -> 0.32690177 | S10: =1/((1+S$2)^$B10) -> 0.30502546 | T10: =1/((1+T$2)^$B10) -> 0.28478237 | U10: =1/((1+U$2)^$B10) -> 0.26603816 | ... W10: =1/((1+W$2)^$B10) -> 0.23256804
B11: 9 | C11: =1/((1+C$2)^$B11) -> 0.91433982 | D11: =1/((1+D$2)^$B11) -> 0.83675527 | E11: =1/((1+E$2)^$B11) -> 0.76641673 | F11: =1/((1+F$2)^$B11) -> 0.70258674 | G11: =1/((1+G$2)^$B11) -> 0.64460892 | H11: =1/((1+H$2)^$B11) -> 0.59189846 | I11: =1/((1+I$2)^$B11) -> 0.54393374 | J11: =1/((1+J$2)^$B11) -> 0.50024897 | ... L11: =1/((1+L$2)^$B11) -> 0.42409762 | M11: 9 | N11: =1/((1+N$2)^$B11) -> 0.39092477 | O11: =1/((1+O$2)^$B11) -> 0.36061002 | P11: =1/((1+P$2)^$B11) -> 0.33288483 | Q11: =1/((1+Q$2)^$B11) -> 0.30750794 | R11: =1/((1+R$2)^$B11) -> 0.28426241 | S11: =1/((1+S$2)^$B11) -> 0.26295298 | T11: =1/((1+T$2)^$B11) -> 0.24340374 | U11: =1/((1+U$2)^$B11) -> 0.22545607 | ... W11: =1/((1+W$2)^$B11) -> 0.1938067
B12: 10 | C12: =1/((1+C$2)^$B12) -> 0.90528695 | D12: =1/((1+D$2)^$B12) -> 0.8203483 | E12: =1/((1+E$2)^$B12) -> 0.74409391 | F12: =1/((1+F$2)^$B12) -> 0.67556417 | G12: =1/((1+G$2)^$B12) -> 0.61391325 | H12: =1/((1+H$2)^$B12) -> 0.55839478 | I12: =1/((1+I$2)^$B12) -> 0.50834929 | J12: =1/((1+J$2)^$B12) -> 0.46319349 | ... L12: =1/((1+L$2)^$B12) -> 0.38554329 | M12: 10 | N12: =1/((1+N$2)^$B12) -> 0.35218448 | O12: =1/((1+O$2)^$B12) -> 0.32197324 | P12: =1/((1+P$2)^$B12) -> 0.29458835 | Q12: =1/((1+Q$2)^$B12) -> 0.26974381 | R12: =1/((1+R$2)^$B12) -> 0.24718471 | S12: =1/((1+S$2)^$B12) -> 0.2266836 | T12: =1/((1+T$2)^$B12) -> 0.20803738 | U12: =1/((1+U$2)^$B12) -> 0.19106447 | ... W12: =1/((1+W$2)^$B12) -> 0.16150558
B13: 11 | C13: =1/((1+C$2)^$B13) -> 0.89632372 | D13: =1/((1+D$2)^$B13) -> 0.80426304 | E13: =1/((1+E$2)^$B13) -> 0.72242128 | F13: =1/((1+F$2)^$B13) -> 0.64958093 | G13: =1/((1+G$2)^$B13) -> 0.58467929 | H13: =1/((1+H$2)^$B13) -> 0.52678753 | I13: =1/((1+I$2)^$B13) -> 0.4750928 | J13: =1/((1+J$2)^$B13) -> 0.42888286 | ... L13: =1/((1+L$2)^$B13) -> 0.3504939 | M13: 11 | N13: =1/((1+N$2)^$B13) -> 0.31728331 | O13: =1/((1+O$2)^$B13) -> 0.2874761 | P13: =1/((1+P$2)^$B13) -> 0.26069765 | Q13: =1/((1+Q$2)^$B13) -> 0.23661738 | R13: =1/((1+R$2)^$B13) -> 0.21494322 | S13: =1/((1+S$2)^$B13) -> 0.1954169 | T13: =1/((1+T$2)^$B13) -> 0.17780973 | U13: =1/((1+U$2)^$B13) -> 0.16191904 | ... W13: =1/((1+W$2)^$B13) -> 0.13458799
B14: 12 | C14: =1/((1+C$2)^$B14) -> 0.88744923 | D14: =1/((1+D$2)^$B14) -> 0.78849318 | E14: =1/((1+E$2)^$B14) -> 0.70137988 | F14: =1/((1+F$2)^$B14) -> 0.62459705 | G14: =1/((1+G$2)^$B14) -> 0.55683742 | H14: =1/((1+H$2)^$B14) -> 0.49696936 | I14: =1/((1+I$2)^$B14) -> 0.44401196 | J14: =1/((1+J$2)^$B14) -> 0.39711376 | ... L14: =1/((1+L$2)^$B14) -> 0.31863082 | M14: 12 | N14: =1/((1+N$2)^$B14) -> 0.28584082 | O14: =1/((1+O$2)^$B14) -> 0.25667509 | P14: =1/((1+P$2)^$B14) -> 0.23070589 | Q14: =1/((1+Q$2)^$B14) -> 0.2075591 | R14: =1/((1+R$2)^$B14) -> 0.18690715 | S14: =1/((1+S$2)^$B14) -> 0.16846284 | T14: =1/((1+T$2)^$B14) -> 0.15197413 | U14: =1/((1+U$2)^$B14) -> 0.13721953 | ... W14: =1/((1+W$2)^$B14) -> 0.11215665
... B36: 70 | C36: =1/((1+C$2)^$B36) -> 0.49831486 | D36: =1/((1+D$2)^$B36) -> 0.25002761 | E36: =1/((1+E$2)^$B36) -> 0.12629736 | F36: =1/((1+F$2)^$B36) -> 0.064219401 | G36: =1/((1+G$2)^$B36) -> 0.032866168 | H36: =1/((1+H$2)^$B36) -> 0.016927368 | I36: =1/((1+I$2)^$B36) -> 0.0087727461 | J36: =1/((1+J$2)^$B36) -> 0.0045744314 | ... L36: =1/((1+L$2)^$B36) -> 0.0012662284 | M36: 70 | N36: =1/((1+N$2)^$B36) -> 0.00067203437 | O36: =1/((1+O$2)^$B36) -> 0.00035870581 | P36: =1/((1+P$2)^$B36) -> 0.00019253467 | Q36: =1/((1+Q$2)^$B36) -> 0.00010391073 | R36: =1/((1+R$2)^$B36) -> 5.6383389e-05 | S36: =1/((1+S$2)^$B36) -> 3.0756772e-05 | T36: =1/((1+T$2)^$B36) -> 1.6865129e-05 | U36: =1/((1+U$2)^$B36) -> 9.295216e-06 | ... W36: =1/((1+W$2)^$B36) -> 2.8662415e-06
A37: ='Mnożnik wartości przyszłej'!A37 -> Zobacz więcej o przygotowaniu do egzaminu: https://laszewski.eu/blog/przygotowanie-do-egzaminu-maklerskiego | H37: ='Mnożnik wartości przyszłej'!H37 -> Autor nie ponosi odpowiedzialności za różnice pomiędzy zawartością pliku a tablicami udostępnianymi podczas egzaminu MPW, ani za ewentualne błędy w obliczeniach. Szczegółowy wygląd oryginalnych tablic egzaminacyjnych podlega ochronie prawnoautorskiej. Przedstawione w tym pliku obliczenia oraz zastosowane funkcje w Excelu stanowią utwór inspirowany, oparty wyłącznie na powszechnie znanych wzorach matematycznych oraz obejmujący te same zakresy okresów i stóp procentowych. | M37: =A37 -> Zobacz więcej o przygotowaniu do egzaminu: https://laszewski.eu/blog/przygotowanie-do-egzaminu-maklerskiego | T37: =H37 -> Autor nie ponosi odpowiedzialności za różnice pomiędzy zawartością pliku a tablicami udostępnianymi podczas egzaminu MPW, ani za ewentualne błędy w obliczeniach. Szczegółowy wygląd oryginalnych tablic egzaminacyjnych podlega ochronie prawnoautorskiej. Przedstawione w tym pliku obliczenia oraz zastosowane funkcje w Excelu stanowią utwór inspirowany, oparty wyłącznie na powszechnie znanych wzorach matematycznych oraz obejmujący te same zakresy okresów i stóp procentowych.
A39: ='Mnożnik wartości przyszłej'!A39 -> Opracował: Antoni Ludwik Łaszewski, Makler Papierów Wartościowych nr 3828 | M39: =A39 -> Opracował: Antoni Ludwik Łaszewski, Makler Papierów Wartościowych nr 3828
A40: ='Mnożnik wartości przyszłej'!A40 -> laszewski.eu | M40: =A40 -> laszewski.eu

Sheet Mnożnik wartości przyszłej rent
B1: WARTOŚĆ PRZYSZŁA RENTY | N1: =B1 -> WARTOŚĆ PRZYSZŁA RENTY
B2: Okres/stopa | C2: 1% | D2: 2% | E2: 3% | F2: 4% | G2: 5% | H2: 6% | I2: 7% | J2: 8% | K2: 9% | L2: 10% | M2: Okres/stopa. | N2: 11% | O2: 12% | P2: 13% | Q2: 14% | R2: 15% | S2: 16% | T2: 17% | U2: 18% | V2: 19% | W2: 20%
B3: 1 | C3: =(((1+C$2)^$B3)-1)/C$2 -> 1 | D3: =(((1+D$2)^$B3)-1)/D$2 -> 1 | E3: =(((1+E$2)^$B3)-1)/E$2 -> 1 | F3: =(((1+F$2)^$B3)-1)/F$2 -> 1 | G3: =(((1+G$2)^$B3)-1)/G$2 -> 1 | H3: =(((1+H$2)^$B3)-1)/H$2 -> 1 | I3: =(((1+I$2)^$B3)-1)/I$2 -> 1 | J3: =(((1+J$2)^$B3)-1)/J$2 -> 1 | ... L3: =(((1+L$2)^$B3)-1)/L$2 -> 1 | M3: 1 | N3: =(((1+N$2)^$B3)-1)/N$2 -> 1 | O3: =(((1+O$2)^$B3)-1)/O$2 -> 1 | P3: =(((1+P$2)^$B3)-1)/P$2 -> 1 | Q3: =(((1+Q$2)^$B3)-1)/Q$2 -> 1 | R3: =(((1+R$2)^$B3)-1)/R$2 -> 1 | S3: =(((1+S$2)^$B3)-1)/S$2 -> 1 | T3: =(((1+T$2)^$B3)-1)/T$2 -> 1 | U3: =(((1+U$2)^$B3)-1)/U$2 -> 1 | ... W3: =(((1+W$2)^$B3)-1)/W$2 -> 1
B4: 2 | C4: =(((1+C$2)^$B4)-1)/C$2 -> 2.01 | D4: =(((1+D$2)^$B4)-1)/D$2 -> 2.02 | E4: =(((1+E$2)^$B4)-1)/E$2 -> 2.03 | F4: =(((1+F$2)^$B4)-1)/F$2 -> 2.04 | G4: =(((1+G$2)^$B4)-1)/G$2 -> 2.05 | H4: =(((1+H$2)^$B4)-1)/H$2 -> 2.06 | I4: =(((1+I$2)^$B4)-1)/I$2 -> 2.07 | J4: =(((1+J$2)^$B4)-1)/J$2 -> 2.08 | ... L4: =(((1+L$2)^$B4)-1)/L$2 -> 2.1 | M4: 2 | N4: =(((1+N$2)^$B4)-1)/N$2 -> 2.11 | O4: =(((1+O$2)^$B4)-1)/O$2 -> 2.12 | P4: =(((1+P$2)^$B4)-1)/P$2 -> 2.13 | Q4: =(((1+Q$2)^$B4)-1)/Q$2 -> 2.14 | R4: =(((1+R$2)^$B4)-1)/R$2 -> 2.15 | S4: =(((1+S$2)^$B4)-1)/S$2 -> 2.16 | T4: =(((1+T$2)^$B4)-1)/T$2 -> 2.17 | U4: =(((1+U$2)^$B4)-1)/U$2 -> 2.18 | ... W4: =(((1+W$2)^$B4)-1)/W$2 -> 2.2
B5: 3 | C5: =(((1+C$2)^$B5)-1)/C$2 -> 3.0301 | D5: =(((1+D$2)^$B5)-1)/D$2 -> 3.0604 | E5: =(((1+E$2)^$B5)-1)/E$2 -> 3.0909 | F5: =(((1+F$2)^$B5)-1)/F$2 -> 3.1216 | G5: =(((1+G$2)^$B5)-1)/G$2 -> 3.1525 | H5: =(((1+H$2)^$B5)-1)/H$2 -> 3.1836 | I5: =(((1+I$2)^$B5)-1)/I$2 -> 3.2149 | J5: =(((1+J$2)^$B5)-1)/J$2 -> 3.2464 | ... L5: =(((1+L$2)^$B5)-1)/L$2 -> 3.31 | M5: 3 | N5: =(((1+N$2)^$B5)-1)/N$2 -> 3.3421 | O5: =(((1+O$2)^$B5)-1)/O$2 -> 3.3744 | P5: =(((1+P$2)^$B5)-1)/P$2 -> 3.4069 | Q5: =(((1+Q$2)^$B5)-1)/Q$2 -> 3.4396 | R5: =(((1+R$2)^$B5)-1)/R$2 -> 3.4725 | S5: =(((1+S$2)^$B5)-1)/S$2 -> 3.5056 | T5: =(((1+T$2)^$B5)-1)/T$2 -> 3.5389 | U5: =(((1+U$2)^$B5)-1)/U$2 -> 3.5724 | ... W5: =(((1+W$2)^$B5)-1)/W$2 -> 3.64
B6: 4 | C6: =(((1+C$2)^$B6)-1)/C$2 -> 4.060401 | D6: =(((1+D$2)^$B6)-1)/D$2 -> 4.121608 | E6: =(((1+E$2)^$B6)-1)/E$2 -> 4.183627 | F6: =(((1+F$2)^$B6)-1)/F$2 -> 4.246464 | G6: =(((1+G$2)^$B6)-1)/G$2 -> 4.310125 | H6: =(((1+H$2)^$B6)-1)/H$2 -> 4.374616 | I6: =(((1+I$2)^$B6)-1)/I$2 -> 4.439943 | J6: =(((1+J$2)^$B6)-1)/J$2 -> 4.506112 | ... L6: =(((1+L$2)^$B6)-1)/L$2 -> 4.641 | M6: 4 | N6: =(((1+N$2)^$B6)-1)/N$2 -> 4.709731 | O6: =(((1+O$2)^$B6)-1)/O$2 -> 4.779328 | P6: =(((1+P$2)^$B6)-1)/P$2 -> 4.849797 | Q6: =(((1+Q$2)^$B6)-1)/Q$2 -> 4.921144 | R6: =(((1+R$2)^$B6)-1)/R$2 -> 4.993375 | S6: =(((1+S$2)^$B6)-1)/S$2 -> 5.066496 | T6: =(((1+T$2)^$B6)-1)/T$2 -> 5.140513 | U6: =(((1+U$2)^$B6)-1)/U$2 -> 5.215432 | ... W6: =(((1+W$2)^$B6)-1)/W$2 -> 5.368
B7: 5 | C7: =(((1+C$2)^$B7)-1)/C$2 -> 5.101005 | D7: =(((1+D$2)^$B7)-1)/D$2 -> 5.2040402 | E7: =(((1+E$2)^$B7)-1)/E$2 -> 5.3091358 | F7: =(((1+F$2)^$B7)-1)/F$2 -> 5.4163226 | G7: =(((1+G$2)^$B7)-1)/G$2 -> 5.5256313 | H7: =(((1+H$2)^$B7)-1)/H$2 -> 5.637093 | I7: =(((1+I$2)^$B7)-1)/I$2 -> 5.750739 | J7: =(((1+J$2)^$B7)-1)/J$2 -> 5.866601 | ... L7: =(((1+L$2)^$B7)-1)/L$2 -> 6.1051 | M7: 5 | N7: =(((1+N$2)^$B7)-1)/N$2 -> 6.2278014 | O7: =(((1+O$2)^$B7)-1)/O$2 -> 6.3528474 | P7: =(((1+P$2)^$B7)-1)/P$2 -> 6.4802706 | Q7: =(((1+Q$2)^$B7)-1)/Q$2 -> 6.6101042 | R7: =(((1+R$2)^$B7)-1)/R$2 -> 6.7423812 | S7: =(((1+S$2)^$B7)-1)/S$2 -> 6.8771354 | T7: =(((1+T$2)^$B7)-1)/T$2 -> 7.0144002 | U7: =(((1+U$2)^$B7)-1)/U$2 -> 7.1542098 | ... W7: =(((1+W$2)^$B7)-1)/W$2 -> 7.4416
B8: 6 | C8: =(((1+C$2)^$B8)-1)/C$2 -> 6.1520151 | D8: =(((1+D$2)^$B8)-1)/D$2 -> 6.308121 | E8: =(((1+E$2)^$B8)-1)/E$2 -> 6.4684099 | F8: =(((1+F$2)^$B8)-1)/F$2 -> 6.6329755 | G8: =(((1+G$2)^$B8)-1)/G$2 -> 6.8019128 | H8: =(((1+H$2)^$B8)-1)/H$2 -> 6.9753185 | I8: =(((1+I$2)^$B8)-1)/I$2 -> 7.1532907 | J8: =(((1+J$2)^$B8)-1)/J$2 -> 7.335929 | ... L8: =(((1+L$2)^$B8)-1)/L$2 -> 7.71561 | M8: 6 | N8: =(((1+N$2)^$B8)-1)/N$2 -> 7.9128596 | O8: =(((1+O$2)^$B8)-1)/O$2 -> 8.115189 | P8: =(((1+P$2)^$B8)-1)/P$2 -> 8.3227058 | Q8: =(((1+Q$2)^$B8)-1)/Q$2 -> 8.5355187 | R8: =(((1+R$2)^$B8)-1)/R$2 -> 8.7537384 | S8: =(((1+S$2)^$B8)-1)/S$2 -> 8.977477 | T8: =(((1+T$2)^$B8)-1)/T$2 -> 9.2068482 | U8: =(((1+U$2)^$B8)-1)/U$2 -> 9.4419675 | ... W8: =(((1+W$2)^$B8)-1)/W$2 -> 9.92992
B9: 7 | C9: =(((1+C$2)^$B9)-1)/C$2 -> 7.2135352 | D9: =(((1+D$2)^$B9)-1)/D$2 -> 7.4342834 | E9: =(((1+E$2)^$B9)-1)/E$2 -> 7.6624622 | F9: =(((1+F$2)^$B9)-1)/F$2 -> 7.8982945 | G9: =(((1+G$2)^$B9)-1)/G$2 -> 8.1420085 | H9: =(((1+H$2)^$B9)-1)/H$2 -> 8.3938376 | I9: =(((1+I$2)^$B9)-1)/I$2 -> 8.6540211 | J9: =(((1+J$2)^$B9)-1)/J$2 -> 8.9228034 | ... L9: =(((1+L$2)^$B9)-1)/L$2 -> 9.487171 | M9: 7 | N9: =(((1+N$2)^$B9)-1)/N$2 -> 9.7832741 | O9: =(((1+O$2)^$B9)-1)/O$2 -> 10.089012 | P9: =(((1+P$2)^$B9)-1)/P$2 -> 10.404658 | Q9: =(((1+Q$2)^$B9)-1)/Q$2 -> 10.730491 | R9: =(((1+R$2)^$B9)-1)/R$2 -> 11.066799 | S9: =(((1+S$2)^$B9)-1)/S$2 -> 11.413873 | T9: =(((1+T$2)^$B9)-1)/T$2 -> 11.772012 | U9: =(((1+U$2)^$B9)-1)/U$2 -> 12.141522 | ... W9: =(((1+W$2)^$B9)-1)/W$2 -> 12.915904
B10: 8 | C10: =(((1+C$2)^$B10)-1)/C$2 -> 8.2856706 | D10: =(((1+D$2)^$B10)-1)/D$2 -> 8.5829691 | E10: =(((1+E$2)^$B10)-1)/E$2 -> 8.892336 | F10: =(((1+F$2)^$B10)-1)/F$2 -> 9.2142263 | G10: =(((1+G$2)^$B10)-1)/G$2 -> 9.5491089 | H10: =(((1+H$2)^$B10)-1)/H$2 -> 9.8974679 | I10: =(((1+I$2)^$B10)-1)/I$2 -> 10.259803 | J10: =(((1+J$2)^$B10)-1)/J$2 -> 10.636628 | ... L10: =(((1+L$2)^$B10)-1)/L$2 -> 11.435888 | M10: 8 | N10: =(((1+N$2)^$B10)-1)/N$2 -> 11.859434 | O10: =(((1+O$2)^$B10)-1)/O$2 -> 12.299693 | P10: =(((1+P$2)^$B10)-1)/P$2 -> 12.757263 | Q10: =(((1+Q$2)^$B10)-1)/Q$2 -> 13.23276 | R10: =(((1+R$2)^$B10)-1)/R$2 -> 13.726819 | S10: =(((1+S$2)^$B10)-1)/S$2 -> 14.240093 | T10: =(((1+T$2)^$B10)-1)/T$2 -> 14.773255 | U10: =(((1+U$2)^$B10)-1)/U$2 -> 15.326996 | ... W10: =(((1+W$2)^$B10)-1)/W$2 -> 16.499085
B11: 9 | C11: =(((1+C$2)^$B11)-1)/C$2 -> 9.3685273 | D11: =(((1+D$2)^$B11)-1)/D$2 -> 9.7546284 | E11: =(((1+E$2)^$B11)-1)/E$2 -> 10.159106 | F11: =(((1+F$2)^$B11)-1)/F$2 -> 10.582795 | G11: =(((1+G$2)^$B11)-1)/G$2 -> 11.026564 | H11: =(((1+H$2)^$B11)-1)/H$2 -> 11.491316 | I11: =(((1+I$2)^$B11)-1)/I$2 -> 11.977989 | J11: =(((1+J$2)^$B11)-1)/J$2 -> 12.487558 | ... L11: =(((1+L$2)^$B11)-1)/L$2 -> 13.579477 | M11: 9 | N11: =(((1+N$2)^$B11)-1)/N$2 -> 14.163972 | O11: =(((1+O$2)^$B11)-1)/O$2 -> 14.775656 | P11: =(((1+P$2)^$B11)-1)/P$2 -> 15.415707 | Q11: =(((1+Q$2)^$B11)-1)/Q$2 -> 16.085347 | R11: =(((1+R$2)^$B11)-1)/R$2 -> 16.785842 | S11: =(((1+S$2)^$B11)-1)/S$2 -> 17.518508 | T11: =(((1+T$2)^$B11)-1)/T$2 -> 18.284708 | U11: =(((1+U$2)^$B11)-1)/U$2 -> 19.085855 | ... W11: =(((1+W$2)^$B11)-1)/W$2 -> 20.798902
B12: 10 | C12: =(((1+C$2)^$B12)-1)/C$2 -> 10.462213 | D12: =(((1+D$2)^$B12)-1)/D$2 -> 10.949721 | E12: =(((1+E$2)^$B12)-1)/E$2 -> 11.463879 | F12: =(((1+F$2)^$B12)-1)/F$2 -> 12.006107 | G12: =(((1+G$2)^$B12)-1)/G$2 -> 12.577893 | H12: =(((1+H$2)^$B12)-1)/H$2 -> 13.180795 | I12: =(((1+I$2)^$B12)-1)/I$2 -> 13.816448 | J12: =(((1+J$2)^$B12)-1)/J$2 -> 14.486562 | ... L12: =(((1+L$2)^$B12)-1)/L$2 -> 15.937425 | M12: 10 | N12: =(((1+N$2)^$B12)-1)/N$2 -> 16.722009 | O12: =(((1+O$2)^$B12)-1)/O$2 -> 17.548735 | P12: =(((1+P$2)^$B12)-1)/P$2 -> 18.419749 | Q12: =(((1+Q$2)^$B12)-1)/Q$2 -> 19.337295 | R12: =(((1+R$2)^$B12)-1)/R$2 -> 20.303718 | S12: =(((1+S$2)^$B12)-1)/S$2 -> 21.321469 | T12: =(((1+T$2)^$B12)-1)/T$2 -> 22.393108 | U12: =(((1+U$2)^$B12)-1)/U$2 -> 23.521309 | ... W12: =(((1+W$2)^$B12)-1)/W$2 -> 25.958682
B13: 11 | C13: =(((1+C$2)^$B13)-1)/C$2 -> 11.566835 | D13: =(((1+D$2)^$B13)-1)/D$2 -> 12.168715 | E13: =(((1+E$2)^$B13)-1)/E$2 -> 12.807796 | F13: =(((1+F$2)^$B13)-1)/F$2 -> 13.486351 | G13: =(((1+G$2)^$B13)-1)/G$2 -> 14.206787 | H13: =(((1+H$2)^$B13)-1)/H$2 -> 14.971643 | I13: =(((1+I$2)^$B13)-1)/I$2 -> 15.783599 | J13: =(((1+J$2)^$B13)-1)/J$2 -> 16.645487 | ... L13: =(((1+L$2)^$B13)-1)/L$2 -> 18.531167 | M13: 11 | N13: =(((1+N$2)^$B13)-1)/N$2 -> 19.56143 | O13: =(((1+O$2)^$B13)-1)/O$2 -> 20.654583 | P13: =(((1+P$2)^$B13)-1)/P$2 -> 21.814317 | Q13: =(((1+Q$2)^$B13)-1)/Q$2 -> 23.044516 | R13: =(((1+R$2)^$B13)-1)/R$2 -> 24.349276 | S13: =(((1+S$2)^$B13)-1)/S$2 -> 25.732904 | T13: =(((1+T$2)^$B13)-1)/T$2 -> 27.199937 | U13: =(((1+U$2)^$B13)-1)/U$2 -> 28.755144 | ... W13: =(((1+W$2)^$B13)-1)/W$2 -> 32.150419
B14: 12 | C14: =(((1+C$2)^$B14)-1)/C$2 -> 12.682503 | D14: =(((1+D$2)^$B14)-1)/D$2 -> 13.41209 | E14: =(((1+E$2)^$B14)-1)/E$2 -> 14.19203 | F14: =(((1+F$2)^$B14)-1)/F$2 -> 15.025805 | G14: =(((1+G$2)^$B14)-1)/G$2 -> 15.917127 | H14: =(((1+H$2)^$B14)-1)/H$2 -> 16.869941 | I14: =(((1+I$2)^$B14)-1)/I$2 -> 17.888451 | J14: =(((1+J$2)^$B14)-1)/J$2 -> 18.977126 | ... L14: =(((1+L$2)^$B14)-1)/L$2 -> 21.384284 | M14: 12 | N14: =(((1+N$2)^$B14)-1)/N$2 -> 22.713187 | O14: =(((1+O$2)^$B14)-1)/O$2 -> 24.133133 | P14: =(((1+P$2)^$B14)-1)/P$2 -> 25.650178 | Q14: =(((1+Q$2)^$B14)-1)/Q$2 -> 27.270749 | R14: =(((1+R$2)^$B14)-1)/R$2 -> 29.001667 | S14: =(((1+S$2)^$B14)-1)/S$2 -> 30.850169 | T14: =(((1+T$2)^$B14)-1)/T$2 -> 32.823926 | U14: =(((1+U$2)^$B14)-1)/U$2 -> 34.93107 | ... W14: =(((1+W$2)^$B14)-1)/W$2 -> 39.580502
... B36: 70 | C36: =(((1+C$2)^$B36)-1)/C$2 -> 100.67634 | D36: =(((1+D$2)^$B36)-1)/D$2 -> 149.97791 | E36: =(((1+E$2)^$B36)-1)/E$2 -> 230.59406 | F36: =(((1+F$2)^$B36)-1)/F$2 -> 364.29046 | G36: =(((1+G$2)^$B36)-1)/G$2 -> 588.52851 | H36: =(((1+H$2)^$B36)-1)/H$2 -> 967.93217 | I36: =(((1+I$2)^$B36)-1)/I$2 -> 1614.1342 | J36: =(((1+J$2)^$B36)-1)/J$2 -> 2720.0801 | ... L36: =(((1+L$2)^$B36)-1)/L$2 -> 7887.4696 | M36: 70 | N36: =(((1+N$2)^$B36)-1)/N$2 -> 13518.356 | O36: =(((1+O$2)^$B36)-1)/O$2 -> 23223.332 | P36: =(((1+P$2)^$B36)-1)/P$2 -> 39945.151 | Q36: =(((1+Q$2)^$B36)-1)/Q$2 -> 68733.178 | R36: =(((1+R$2)^$B36)-1)/R$2 -> 118231.47 | S36: =(((1+S$2)^$B36)-1)/S$2 -> 203201.03 | T36: =(((1+T$2)^$B36)-1)/T$2 -> 348782.01 | U36: =(((1+U$2)^$B36)-1)/U$2 -> 597673.46 | ... W36: =(((1+W$2)^$B36)-1)/W$2 -> 1744439.8
A37: ='Mnożnik wartości przyszłej'!A37 -> Zobacz więcej o przygotowaniu do egzaminu: https://laszewski.eu/blog/przygotowanie-do-egzaminu-maklerskiego | H37: ='Mnożnik wartości przyszłej'!H37 -> Autor nie ponosi odpowiedzialności za różnice pomiędzy zawartością pliku a tablicami udostępnianymi podczas egzaminu MPW, ani za ewentualne błędy w obliczeniach. Szczegółowy wygląd oryginalnych tablic egzaminacyjnych podlega ochronie prawnoautorskiej. Przedstawione w tym pliku obliczenia oraz zastosowane funkcje w Excelu stanowią utwór inspirowany, oparty wyłącznie na powszechnie znanych wzorach matematycznych oraz obejmujący te same zakresy okresów i stóp procentowych. | M37: =A37 -> Zobacz więcej o przygotowaniu do egzaminu: https://laszewski.eu/blog/przygotowanie-do-egzaminu-maklerskiego | T37: =H37 -> Autor nie ponosi odpowiedzialności za różnice pomiędzy zawartością pliku a tablicami udostępnianymi podczas egzaminu MPW, ani za ewentualne błędy w obliczeniach. Szczegółowy wygląd oryginalnych tablic egzaminacyjnych podlega ochronie prawnoautorskiej. Przedstawione w tym pliku obliczenia oraz zastosowane funkcje w Excelu stanowią utwór inspirowany, oparty wyłącznie na powszechnie znanych wzorach matematycznych oraz obejmujący te same zakresy okresów i stóp procentowych.
A39: ='Mnożnik wartości przyszłej'!A39 -> Opracował: Antoni Ludwik Łaszewski, Makler Papierów Wartościowych nr 3828 | M39: =A39 -> Opracował: Antoni Ludwik Łaszewski, Makler Papierów Wartościowych nr 3828
A40: ='Mnożnik wartości przyszłej'!A40 -> laszewski.eu | M40: =A40 -> laszewski.eu

Sheet Mnożnik wartości bieżącej renty
B1: WARTOŚĆ BIEŻĄCA RENTY | N1: =B1 -> WARTOŚĆ BIEŻĄCA RENTY
B2: Okres/stopa | C2: 1% | D2: 2% | E2: 3% | F2: 4% | G2: 5% | H2: 6% | I2: 7% | J2: 8% | K2: 9% | L2: 10% | M2: Okres/stopa. | N2: 11% | O2: 12% | P2: 13% | Q2: 14% | R2: 15% | S2: 16% | T2: 17% | U2: 18% | V2: 19% | W2: 20%
B3: 1 | C3: =(1-((1+C$2)^-$B3))/C$2 -> 0.99009901 | D3: =(1-((1+D$2)^-$B3))/D$2 -> 0.98039216 | E3: =(1-((1+E$2)^-$B3))/E$2 -> 0.97087379 | F3: =(1-((1+F$2)^-$B3))/F$2 -> 0.96153846 | G3: =(1-((1+G$2)^-$B3))/G$2 -> 0.95238095 | H3: =(1-((1+H$2)^-$B3))/H$2 -> 0.94339623 | I3: =(1-((1+I$2)^-$B3))/I$2 -> 0.93457944 | J3: =(1-((1+J$2)^-$B3))/J$2 -> 0.92592593 | ... L3: =(1-((1+L$2)^-$B3))/L$2 -> 0.90909091 | M3: 1 | N3: =(1-((1+N$2)^-$B3))/N$2 -> 0.9009009 | O3: =(1-((1+O$2)^-$B3))/O$2 -> 0.89285714 | P3: =(1-((1+P$2)^-$B3))/P$2 -> 0.88495575 | Q3: =(1-((1+Q$2)^-$B3))/Q$2 -> 0.87719298 | R3: =(1-((1+R$2)^-$B3))/R$2 -> 0.86956522 | S3: =(1-((1+S$2)^-$B3))/S$2 -> 0.86206897 | T3: =(1-((1+T$2)^-$B3))/T$2 -> 0.85470085 | U3: =(1-((1+U$2)^-$B3))/U$2 -> 0.84745763 | ... W3: =(1-((1+W$2)^-$B3))/W$2 -> 0.83333333
B4: 2 | C4: =(1-((1+C$2)^-$B4))/C$2 -> 1.9703951 | D4: =(1-((1+D$2)^-$B4))/D$2 -> 1.9415609 | E4: =(1-((1+E$2)^-$B4))/E$2 -> 1.9134697 | F4: =(1-((1+F$2)^-$B4))/F$2 -> 1.8860947 | G4: =(1-((1+G$2)^-$B4))/G$2 -> 1.8594104 | H4: =(1-((1+H$2)^-$B4))/H$2 -> 1.8333927 | I4: =(1-((1+I$2)^-$B4))/I$2 -> 1.8080182 | J4: =(1-((1+J$2)^-$B4))/J$2 -> 1.7832647 | ... L4: =(1-((1+L$2)^-$B4))/L$2 -> 1.7355372 | M4: 2 | N4: =(1-((1+N$2)^-$B4))/N$2 -> 1.7125233 | O4: =(1-((1+O$2)^-$B4))/O$2 -> 1.690051 | P4: =(1-((1+P$2)^-$B4))/P$2 -> 1.6681024 | Q4: =(1-((1+Q$2)^-$B4))/Q$2 -> 1.6466605 | R4: =(1-((1+R$2)^-$B4))/R$2 -> 1.6257089 | S4: =(1-((1+S$2)^-$B4))/S$2 -> 1.6052319 | T4: =(1-((1+T$2)^-$B4))/T$2 -> 1.5852144 | U4: =(1-((1+U$2)^-$B4))/U$2 -> 1.5656421 | ... W4: =(1-((1+W$2)^-$B4))/W$2 -> 1.5277778
B5: 3 | C5: =(1-((1+C$2)^-$B5))/C$2 -> 2.9409852 | D5: =(1-((1+D$2)^-$B5))/D$2 -> 2.8838833 | E5: =(1-((1+E$2)^-$B5))/E$2 -> 2.8286114 | F5: =(1-((1+F$2)^-$B5))/F$2 -> 2.775091 | G5: =(1-((1+G$2)^-$B5))/G$2 -> 2.723248 | H5: =(1-((1+H$2)^-$B5))/H$2 -> 2.6730119 | I5: =(1-((1+I$2)^-$B5))/I$2 -> 2.624316 | J5: =(1-((1+J$2)^-$B5))/J$2 -> 2.577097 | ... L5: =(1-((1+L$2)^-$B5))/L$2 -> 2.486852 | M5: 3 | N5: =(1-((1+N$2)^-$B5))/N$2 -> 2.4437147 | O5: =(1-((1+O$2)^-$B5))/O$2 -> 2.4018313 | P5: =(1-((1+P$2)^-$B5))/P$2 -> 2.3611526 | Q5: =(1-((1+Q$2)^-$B5))/Q$2 -> 2.321632 | R5: =(1-((1+R$2)^-$B5))/R$2 -> 2.2832251 | S5: =(1-((1+S$2)^-$B5))/S$2 -> 2.2458895 | T5: =(1-((1+T$2)^-$B5))/T$2 -> 2.209585 | U5: =(1-((1+U$2)^-$B5))/U$2 -> 2.1742729 | ... W5: =(1-((1+W$2)^-$B5))/W$2 -> 2.1064815
B6: 4 | C6: =(1-((1+C$2)^-$B6))/C$2 -> 3.9019656 | D6: =(1-((1+D$2)^-$B6))/D$2 -> 3.8077287 | E6: =(1-((1+E$2)^-$B6))/E$2 -> 3.7170984 | F6: =(1-((1+F$2)^-$B6))/F$2 -> 3.6298952 | G6: =(1-((1+G$2)^-$B6))/G$2 -> 3.5459505 | H6: =(1-((1+H$2)^-$B6))/H$2 -> 3.4651056 | I6: =(1-((1+I$2)^-$B6))/I$2 -> 3.3872113 | J6: =(1-((1+J$2)^-$B6))/J$2 -> 3.3121268 | ... L6: =(1-((1+L$2)^-$B6))/L$2 -> 3.1698654 | M6: 4 | N6: =(1-((1+N$2)^-$B6))/N$2 -> 3.1024457 | O6: =(1-((1+O$2)^-$B6))/O$2 -> 3.0373493 | P6: =(1-((1+P$2)^-$B6))/P$2 -> 2.9744713 | Q6: =(1-((1+Q$2)^-$B6))/Q$2 -> 2.9137123 | R6: =(1-((1+R$2)^-$B6))/R$2 -> 2.8549784 | S6: =(1-((1+S$2)^-$B6))/S$2 -> 2.7981806 | T6: =(1-((1+T$2)^-$B6))/T$2 -> 2.743235 | U6: =(1-((1+U$2)^-$B6))/U$2 -> 2.6900618 | ... W6: =(1-((1+W$2)^-$B6))/W$2 -> 2.5887346
B7: 5 | C7: =(1-((1+C$2)^-$B7))/C$2 -> 4.8534312 | D7: =(1-((1+D$2)^-$B7))/D$2 -> 4.7134595 | E7: =(1-((1+E$2)^-$B7))/E$2 -> 4.5797072 | F7: =(1-((1+F$2)^-$B7))/F$2 -> 4.4518223 | G7: =(1-((1+G$2)^-$B7))/G$2 -> 4.3294767 | H7: =(1-((1+H$2)^-$B7))/H$2 -> 4.2123638 | I7: =(1-((1+I$2)^-$B7))/I$2 -> 4.1001974 | J7: =(1-((1+J$2)^-$B7))/J$2 -> 3.99271 | ... L7: =(1-((1+L$2)^-$B7))/L$2 -> 3.7907868 | M7: 5 | N7: =(1-((1+N$2)^-$B7))/N$2 -> 3.695897 | O7: =(1-((1+O$2)^-$B7))/O$2 -> 3.6047762 | P7: =(1-((1+P$2)^-$B7))/P$2 -> 3.5172313 | Q7: =(1-((1+Q$2)^-$B7))/Q$2 -> 3.433081 | R7: =(1-((1+R$2)^-$B7))/R$2 -> 3.3521551 | S7: =(1-((1+S$2)^-$B7))/S$2 -> 3.2742937 | T7: =(1-((1+T$2)^-$B7))/T$2 -> 3.1993462 | U7: =(1-((1+U$2)^-$B7))/U$2 -> 3.127171 | ... W7: =(1-((1+W$2)^-$B7))/W$2 -> 2.9906121
B8: 6 | C8: =(1-((1+C$2)^-$B8))/C$2 -> 5.7954765 | D8: =(1-((1+D$2)^-$B8))/D$2 -> 5.6014309 | E8: =(1-((1+E$2)^-$B8))/E$2 -> 5.4171914 | F8: =(1-((1+F$2)^-$B8))/F$2 -> 5.2421369 | G8: =(1-((1+G$2)^-$B8))/G$2 -> 5.0756921 | H8: =(1-((1+H$2)^-$B8))/H$2 -> 4.9173243 | I8: =(1-((1+I$2)^-$B8))/I$2 -> 4.7665397 | J8: =(1-((1+J$2)^-$B8))/J$2 -> 4.6228797 | ... L8: =(1-((1+L$2)^-$B8))/L$2 -> 4.3552607 | M8: 6 | N8: =(1-((1+N$2)^-$B8))/N$2 -> 4.2305379 | O8: =(1-((1+O$2)^-$B8))/O$2 -> 4.1114073 | P8: =(1-((1+P$2)^-$B8))/P$2 -> 3.9975498 | Q8: =(1-((1+Q$2)^-$B8))/Q$2 -> 3.8886675 | R8: =(1-((1+R$2)^-$B8))/R$2 -> 3.7844827 | S8: =(1-((1+S$2)^-$B8))/S$2 -> 3.6847359 | T8: =(1-((1+T$2)^-$B8))/T$2 -> 3.5891848 | U8: =(1-((1+U$2)^-$B8))/U$2 -> 3.4976026 | ... W8: =(1-((1+W$2)^-$B8))/W$2 -> 3.3255101
B9: 7 | C9: =(1-((1+C$2)^-$B9))/C$2 -> 6.7281945 | D9: =(1-((1+D$2)^-$B9))/D$2 -> 6.4719911 | E9: =(1-((1+E$2)^-$B9))/E$2 -> 6.230283 | F9: =(1-((1+F$2)^-$B9))/F$2 -> 6.0020547 | G9: =(1-((1+G$2)^-$B9))/G$2 -> 5.7863734 | H9: =(1-((1+H$2)^-$B9))/H$2 -> 5.5823814 | I9: =(1-((1+I$2)^-$B9))/I$2 -> 5.3892894 | J9: =(1-((1+J$2)^-$B9))/J$2 -> 5.2063701 | ... L9: =(1-((1+L$2)^-$B9))/L$2 -> 4.8684188 | M9: 7 | N9: =(1-((1+N$2)^-$B9))/N$2 -> 4.7121963 | O9: =(1-((1+O$2)^-$B9))/O$2 -> 4.5637565 | P9: =(1-((1+P$2)^-$B9))/P$2 -> 4.4226104 | Q9: =(1-((1+Q$2)^-$B9))/Q$2 -> 4.2883048 | R9: =(1-((1+R$2)^-$B9))/R$2 -> 4.1604197 | S9: =(1-((1+S$2)^-$B9))/S$2 -> 4.0385654 | T9: =(1-((1+T$2)^-$B9))/T$2 -> 3.9223801 | U9: =(1-((1+U$2)^-$B9))/U$2 -> 3.8115276 | ... W9: =(1-((1+W$2)^-$B9))/W$2 -> 3.6045918
B10: 8 | C10: =(1-((1+C$2)^-$B10))/C$2 -> 7.6516778 | D10: =(1-((1+D$2)^-$B10))/D$2 -> 7.3254814 | E10: =(1-((1+E$2)^-$B10))/E$2 -> 7.0196922 | F10: =(1-((1+F$2)^-$B10))/F$2 -> 6.7327449 | G10: =(1-((1+G$2)^-$B10))/G$2 -> 6.4632128 | H10: =(1-((1+H$2)^-$B10))/H$2 -> 6.2097938 | I10: =(1-((1+I$2)^-$B10))/I$2 -> 5.9712985 | J10: =(1-((1+J$2)^-$B10))/J$2 -> 5.7466389 | ... L10: =(1-((1+L$2)^-$B10))/L$2 -> 5.3349262 | M10: 8 | N10: =(1-((1+N$2)^-$B10))/N$2 -> 5.1461228 | O10: =(1-((1+O$2)^-$B10))/O$2 -> 4.9676398 | P10: =(1-((1+P$2)^-$B10))/P$2 -> 4.7987703 | Q10: =(1-((1+Q$2)^-$B10))/Q$2 -> 4.6388639 | R10: =(1-((1+R$2)^-$B10))/R$2 -> 4.4873215 | S10: =(1-((1+S$2)^-$B10))/S$2 -> 4.3435909 | T10: =(1-((1+T$2)^-$B10))/T$2 -> 4.2071625 | U10: =(1-((1+U$2)^-$B10))/U$2 -> 4.0775658 | ... W10: =(1-((1+W$2)^-$B10))/W$2 -> 3.8371598
B11: 9 | C11: =(1-((1+C$2)^-$B11))/C$2 -> 8.5660176 | D11: =(1-((1+D$2)^-$B11))/D$2 -> 8.1622367 | E11: =(1-((1+E$2)^-$B11))/E$2 -> 7.7861089 | F11: =(1-((1+F$2)^-$B11))/F$2 -> 7.4353316 | G11: =(1-((1+G$2)^-$B11))/G$2 -> 7.1078217 | H11: =(1-((1+H$2)^-$B11))/H$2 -> 6.8016923 | I11: =(1-((1+I$2)^-$B11))/I$2 -> 6.5152322 | J11: =(1-((1+J$2)^-$B11))/J$2 -> 6.2468879 | ... L11: =(1-((1+L$2)^-$B11))/L$2 -> 5.7590238 | M11: 9 | N11: =(1-((1+N$2)^-$B11))/N$2 -> 5.5370475 | O11: =(1-((1+O$2)^-$B11))/O$2 -> 5.3282498 | P11: =(1-((1+P$2)^-$B11))/P$2 -> 5.1316551 | Q11: =(1-((1+Q$2)^-$B11))/Q$2 -> 4.9463718 | R11: =(1-((1+R$2)^-$B11))/R$2 -> 4.7715839 | S11: =(1-((1+S$2)^-$B11))/S$2 -> 4.6065439 | T11: =(1-((1+T$2)^-$B11))/T$2 -> 4.4505662 | U11: =(1-((1+U$2)^-$B11))/U$2 -> 4.3030218 | ... W11: =(1-((1+W$2)^-$B11))/W$2 -> 4.0309665
B12: 10 | C12: =(1-((1+C$2)^-$B12))/C$2 -> 9.4713045 | D12: =(1-((1+D$2)^-$B12))/D$2 -> 8.982585 | E12: =(1-((1+E$2)^-$B12))/E$2 -> 8.5302028 | F12: =(1-((1+F$2)^-$B12))/F$2 -> 8.1108958 | G12: =(1-((1+G$2)^-$B12))/G$2 -> 7.7217349 | H12: =(1-((1+H$2)^-$B12))/H$2 -> 7.3600871 | I12: =(1-((1+I$2)^-$B12))/I$2 -> 7.0235815 | J12: =(1-((1+J$2)^-$B12))/J$2 -> 6.7100814 | ... L12: =(1-((1+L$2)^-$B12))/L$2 -> 6.1445671 | M12: 10 | N12: =(1-((1+N$2)^-$B12))/N$2 -> 5.889232 | O12: =(1-((1+O$2)^-$B12))/O$2 -> 5.650223 | P12: =(1-((1+P$2)^-$B12))/P$2 -> 5.4262435 | Q12: =(1-((1+Q$2)^-$B12))/Q$2 -> 5.2161156 | R12: =(1-((1+R$2)^-$B12))/R$2 -> 5.0187686 | S12: =(1-((1+S$2)^-$B12))/S$2 -> 4.8332275 | T12: =(1-((1+T$2)^-$B12))/T$2 -> 4.6586036 | U12: =(1-((1+U$2)^-$B12))/U$2 -> 4.4940863 | ... W12: =(1-((1+W$2)^-$B12))/W$2 -> 4.1924721
B13: 11 | C13: =(1-((1+C$2)^-$B13))/C$2 -> 10.367628 | D13: =(1-((1+D$2)^-$B13))/D$2 -> 9.786848 | E13: =(1-((1+E$2)^-$B13))/E$2 -> 9.2526241 | F13: =(1-((1+F$2)^-$B13))/F$2 -> 8.7604767 | G13: =(1-((1+G$2)^-$B13))/G$2 -> 8.3064142 | H13: =(1-((1+H$2)^-$B13))/H$2 -> 7.8868746 | I13: =(1-((1+I$2)^-$B13))/I$2 -> 7.4986743 | J13: =(1-((1+J$2)^-$B13))/J$2 -> 7.1389643 | ... L13: =(1-((1+L$2)^-$B13))/L$2 -> 6.495061 | M13: 11 | N13: =(1-((1+N$2)^-$B13))/N$2 -> 6.2065153 | O13: =(1-((1+O$2)^-$B13))/O$2 -> 5.9376991 | P13: =(1-((1+P$2)^-$B13))/P$2 -> 5.6869411 | Q13: =(1-((1+Q$2)^-$B13))/Q$2 -> 5.452733 | R13: =(1-((1+R$2)^-$B13))/R$2 -> 5.2337118 | S13: =(1-((1+S$2)^-$B13))/S$2 -> 5.0286444 | T13: =(1-((1+T$2)^-$B13))/T$2 -> 4.8364134 | U13: =(1-((1+U$2)^-$B13))/U$2 -> 4.6560053 | ... W13: =(1-((1+W$2)^-$B13))/W$2 -> 4.3270601
B14: 12 | C14: =(1-((1+C$2)^-$B14))/C$2 -> 11.255077 | D14: =(1-((1+D$2)^-$B14))/D$2 -> 10.575341 | E14: =(1-((1+E$2)^-$B14))/E$2 -> 9.954004 | F14: =(1-((1+F$2)^-$B14))/F$2 -> 9.3850738 | G14: =(1-((1+G$2)^-$B14))/G$2 -> 8.8632516 | H14: =(1-((1+H$2)^-$B14))/H$2 -> 8.3838439 | I14: =(1-((1+I$2)^-$B14))/I$2 -> 7.9426863 | J14: =(1-((1+J$2)^-$B14))/J$2 -> 7.536078 | ... L14: =(1-((1+L$2)^-$B14))/L$2 -> 6.8136918 | M14: 12 | N14: =(1-((1+N$2)^-$B14))/N$2 -> 6.4923561 | O14: =(1-((1+O$2)^-$B14))/O$2 -> 6.1943742 | P14: =(1-((1+P$2)^-$B14))/P$2 -> 5.917647 | Q14: =(1-((1+Q$2)^-$B14))/Q$2 -> 5.6602921 | R14: =(1-((1+R$2)^-$B14))/R$2 -> 5.420619 | S14: =(1-((1+S$2)^-$B14))/S$2 -> 5.1971072 | T14: =(1-((1+T$2)^-$B14))/T$2 -> 4.9883875 | U14: =(1-((1+U$2)^-$B14))/U$2 -> 4.7932249 | ... W14: =(1-((1+W$2)^-$B14))/W$2 -> 4.4392167
... B36: 70 | C36: =(1-((1+C$2)^-$B36))/C$2 -> 50.168514 | D36: =(1-((1+D$2)^-$B36))/D$2 -> 37.498619 | E36: =(1-((1+E$2)^-$B36))/E$2 -> 29.123421 | F36: =(1-((1+F$2)^-$B36))/F$2 -> 23.394515 | G36: =(1-((1+G$2)^-$B36))/G$2 -> 19.342677 | H36: =(1-((1+H$2)^-$B36))/H$2 -> 16.384544 | I36: =(1-((1+I$2)^-$B36))/I$2 -> 14.160389 | J36: =(1-((1+J$2)^-$B36))/J$2 -> 12.44282 | ... L36: =(1-((1+L$2)^-$B36))/L$2 -> 9.9873377 | M36: 70 | N36: =(1-((1+N$2)^-$B36))/N$2 -> 9.0847997 | O36: =(1-((1+O$2)^-$B36))/O$2 -> 8.3303441 | P36: =(1-((1+P$2)^-$B36))/P$2 -> 7.6908267 | Q36: =(1-((1+Q$2)^-$B36))/Q$2 -> 7.1421149 | R36: =(1-((1+R$2)^-$B36))/R$2 -> 6.6662908 | S36: =(1-((1+S$2)^-$B36))/S$2 -> 6.2498078 | T36: =(1-((1+T$2)^-$B36))/T$2 -> 5.8822537 | U36: =(1-((1+U$2)^-$B36))/U$2 -> 5.5555039 | ... W36: =(1-((1+W$2)^-$B36))/W$2 -> 4.9999857
A37: ='Mnożnik wartości przyszłej'!A37 -> Zobacz więcej o przygotowaniu do egzaminu: https://laszewski.eu/blog/przygotowanie-do-egzaminu-maklerskiego | H37: ='Mnożnik wartości przyszłej'!H37 -> Autor nie ponosi odpowiedzialności za różnice pomiędzy zawartością pliku a tablicami udostępnianymi podczas egzaminu MPW, ani za ewentualne błędy w obliczeniach. Szczegółowy wygląd oryginalnych tablic egzaminacyjnych podlega ochronie prawnoautorskiej. Przedstawione w tym pliku obliczenia oraz zastosowane funkcje w Excelu stanowią utwór inspirowany, oparty wyłącznie na powszechnie znanych wzorach matematycznych oraz obejmujący te same zakresy okresów i stóp procentowych. | M37: =A37 -> Zobacz więcej o przygotowaniu do egzaminu: https://laszewski.eu/blog/przygotowanie-do-egzaminu-maklerskiego | T37: =H37 -> Autor nie ponosi odpowiedzialności za różnice pomiędzy zawartością pliku a tablicami udostępnianymi podczas egzaminu MPW, ani za ewentualne błędy w obliczeniach. Szczegółowy wygląd oryginalnych tablic egzaminacyjnych podlega ochronie prawnoautorskiej. Przedstawione w tym pliku obliczenia oraz zastosowane funkcje w Excelu stanowią utwór inspirowany, oparty wyłącznie na powszechnie znanych wzorach matematycznych oraz obejmujący te same zakresy okresów i stóp procentowych.
A39: ='Mnożnik wartości przyszłej'!A39 -> Opracował: Antoni Ludwik Łaszewski, Makler Papierów Wartościowych nr 3828 | M39: =A39 -> Opracował: Antoni Ludwik Łaszewski, Makler Papierów Wartościowych nr 3828
A40: ='Mnożnik wartości przyszłej'!A40 -> laszewski.eu | M40: =A40 -> laszewski.eu
